BEGIN:VCALENDAR
VERSION:2.0
PRODID:-//Kneipp-Verein Bünde - ECPv6.15.20//NONSGML v1.0//EN
CALSCALE:GREGORIAN
METHOD:PUBLISH
X-WR-CALNAME:Kneipp-Verein Bünde
X-ORIGINAL-URL:https://kneipp-verein-buende.de
X-WR-CALDESC:Veranstaltungen für Kneipp-Verein Bünde
REFRESH-INTERVAL;VALUE=DURATION:PT1H
X-Robots-Tag:noindex
X-PUBLISHED-TTL:PT1H
BEGIN:VTIMEZONE
TZID:Europe/Berlin
BEGIN:DAYLIGHT
TZOFFSETFROM:+0100
TZOFFSETTO:+0200
TZNAME:CEST
DTSTART:20260329T010000
END:DAYLIGHT
BEGIN:STANDARD
TZOFFSETFROM:+0200
TZOFFSETTO:+0100
TZNAME:CET
DTSTART:20261025T010000
END:STANDARD
BEGIN:DAYLIGHT
TZOFFSETFROM:+0100
TZOFFSETTO:+0200
TZNAME:CEST
DTSTART:20270328T010000
END:DAYLIGHT
BEGIN:STANDARD
TZOFFSETFROM:+0200
TZOFFSETTO:+0100
TZNAME:CET
DTSTART:20271031T010000
END:STANDARD
BEGIN:DAYLIGHT
TZOFFSETFROM:+0100
TZOFFSETTO:+0200
TZNAME:CEST
DTSTART:20280326T010000
END:DAYLIGHT
BEGIN:STANDARD
TZOFFSETFROM:+0200
TZOFFSETTO:+0100
TZNAME:CET
DTSTART:20281029T010000
END:STANDARD
END:VTIMEZONE
BEGIN:VEVENT
DTSTART;TZID=Europe/Berlin:20270401T101500
DTEND;TZID=Europe/Berlin:20270401T121500
DTSTAMP:20260422T203239
CREATED:20251219T145341Z
LAST-MODIFIED:20260224T080410Z
UID:10000879-1806574500-1806581700@kneipp-verein-buende.de
SUMMARY:Waldbaden Donnerstag
DESCRIPTION:Der Aufenthalt im Wald fördert nachweislich die Gesundheit und baut Stress ab. In der Natur kann der Atem als Quelle der Regeneration erlebt werden. Achtsamkeit und Meditation im Wald können ein Gedankenkarussell stoppen und die eigenen Energiereserven mobilisieren. \nWaldbaden ist für Teilnehmer jeden Alters geeignet. Es wird eine Strecke von ca. 4 km zurückgelegt. \nJeweils am Donnerstag \n10.15 – 12.15 Uhr\nKurs A100: 12.03. – 30.04.26\nKurs A101: 27.08. – 29.10.26 (je 8 Termine) \n\n\n\nKursgebühr: 64\,00 € für Mitglieder / 80\,00 € für Gäste \nTreffpunkt: Parkplatz Kurhaus Bültermann\, Bäderstraße 102\, Bünde- Randringhausen \nKursleitung & Anmeldung:\nAnette Dunklau (Gesundheitspädagogin)\, 05223-6588442
URL:https://kneipp-verein-buende.de/veranstaltungen/waldbaden-donnerstag/2027-04-01/
CATEGORIES:Outdoor-Veranstaltungen
END:VEVENT
BEGIN:VEVENT
DTSTART;TZID=Europe/Berlin:20270405T173000
DTEND;TZID=Europe/Berlin:20270405T184500
DTSTAMP:20260422T203239
CREATED:20260320T085141Z
LAST-MODIFIED:20260320T085840Z
UID:10002630-1806946200-1806950700@kneipp-verein-buende.de
SUMMARY:Trommelgruppe SAYOLEE
DESCRIPTION:Wenn in Westafrika getrommelt wird\, dann spielen stets\nmehrere Menschen auf verschiedenen Trommeln zusammen.\nIn Verbindung mit Rasseln und Glocken ergibt sich ein vielstimmiges\, mitreißendes rhythmisches Ganzes.\nDabei ist es nicht nur wichtig\, die eigene Spielstimme zu beherrschen\, sondern auch stets für die Mitspielenden aufmerksam zu sein.\nEine Teilnahme ist nur mit Vorkenntnissen möglich. \n\n\n\n\n\n\n\n\n\n\n\n\n\n\n\n\n\n\nJeweils am Montag 17.30 – 18.45 Uhr\n(jeweils 8 Termine)\nKurs C307: 19.01. – 09.03.2026\nKurs C308: 13.04. – 08.06.2026 (am 25.05. nicht)\nKurs C309: 07.09. – 28.09. + 02.11. – 23.11.2026 (im Oktober nicht)\nKursgebühr:\n48\,00 € für Mitglieder / 64\,00 € für Gäste\n+ 10\,00 € für Instrumentbenutzung\nOrt: Sporthalle Forscherhaus Südring 111\, Bünde-Mitte\nKursleitung & Anmeldung:\nAnnette Giesen-Waltersmann und Theodor Saathoff 05223-12254
URL:https://kneipp-verein-buende.de/veranstaltungen/trommelgruppe-sayolee/2027-04-05/
CATEGORIES:Besonderes
END:VEVENT
BEGIN:VEVENT
DTSTART;TZID=Europe/Berlin:20270406T144500
DTEND;TZID=Europe/Berlin:20270406T164500
DTSTAMP:20260422T203239
CREATED:20251219T150500Z
LAST-MODIFIED:20260224T080842Z
UID:10000966-1807022700-1807029900@kneipp-verein-buende.de
SUMMARY:Waldbaden Dienstag
DESCRIPTION:Der Aufenthalt im Wald fördert nachweislich die Gesundheit und baut Stress ab. In der Natur kann der Atem als Quelle der Regeneration erlebt werden. Achtsamkeit und Meditation im Wald können ein Gedankenkarussell stoppen und die eigenen Energiereserven mobilisieren. \nWaldbaden ist für Teilnehmer jeden Alters geeignet. Es wird eine Strecke von ca. 4 km zurückgelegt. \nJeweils am Dienstag \n14.45 – 16.45 Uhr\nKurs A103: 10.03. – 28.04.26\nKurs A104: 25.08. – 27.10.26 (je 8 Termine) \nKursgebühr: 64\,00 € für Mitglieder / 80\,00 € für Gäste \nTreffpunkt: Parkplatz Kurhaus Bültermann\, Bäderstraße 102\, Bünde- Randringhausen \nKursleitung & Anmeldung:\nAnette Dunklau (Gesundheitspädagogin)\, 05223-6588442
URL:https://kneipp-verein-buende.de/veranstaltungen/waldbaden-dienstag/2027-04-06/
CATEGORIES:Outdoor-Veranstaltungen
END:VEVENT
BEGIN:VEVENT
DTSTART;TZID=Europe/Berlin:20270408T101500
DTEND;TZID=Europe/Berlin:20270408T121500
DTSTAMP:20260422T203239
CREATED:20251219T145341Z
LAST-MODIFIED:20260224T080410Z
UID:10000880-1807179300-1807186500@kneipp-verein-buende.de
SUMMARY:Waldbaden Donnerstag
DESCRIPTION:Der Aufenthalt im Wald fördert nachweislich die Gesundheit und baut Stress ab. In der Natur kann der Atem als Quelle der Regeneration erlebt werden. Achtsamkeit und Meditation im Wald können ein Gedankenkarussell stoppen und die eigenen Energiereserven mobilisieren. \nWaldbaden ist für Teilnehmer jeden Alters geeignet. Es wird eine Strecke von ca. 4 km zurückgelegt. \nJeweils am Donnerstag \n10.15 – 12.15 Uhr\nKurs A100: 12.03. – 30.04.26\nKurs A101: 27.08. – 29.10.26 (je 8 Termine) \n\n\n\nKursgebühr: 64\,00 € für Mitglieder / 80\,00 € für Gäste \nTreffpunkt: Parkplatz Kurhaus Bültermann\, Bäderstraße 102\, Bünde- Randringhausen \nKursleitung & Anmeldung:\nAnette Dunklau (Gesundheitspädagogin)\, 05223-6588442
URL:https://kneipp-verein-buende.de/veranstaltungen/waldbaden-donnerstag/2027-04-08/
CATEGORIES:Outdoor-Veranstaltungen
END:VEVENT
BEGIN:VEVENT
DTSTART;TZID=Europe/Berlin:20270412T173000
DTEND;TZID=Europe/Berlin:20270412T184500
DTSTAMP:20260422T203239
CREATED:20260320T085141Z
LAST-MODIFIED:20260320T085840Z
UID:10002631-1807551000-1807555500@kneipp-verein-buende.de
SUMMARY:Trommelgruppe SAYOLEE
DESCRIPTION:Wenn in Westafrika getrommelt wird\, dann spielen stets\nmehrere Menschen auf verschiedenen Trommeln zusammen.\nIn Verbindung mit Rasseln und Glocken ergibt sich ein vielstimmiges\, mitreißendes rhythmisches Ganzes.\nDabei ist es nicht nur wichtig\, die eigene Spielstimme zu beherrschen\, sondern auch stets für die Mitspielenden aufmerksam zu sein.\nEine Teilnahme ist nur mit Vorkenntnissen möglich. \n\n\n\n\n\n\n\n\n\n\n\n\n\n\n\n\n\n\nJeweils am Montag 17.30 – 18.45 Uhr\n(jeweils 8 Termine)\nKurs C307: 19.01. – 09.03.2026\nKurs C308: 13.04. – 08.06.2026 (am 25.05. nicht)\nKurs C309: 07.09. – 28.09. + 02.11. – 23.11.2026 (im Oktober nicht)\nKursgebühr:\n48\,00 € für Mitglieder / 64\,00 € für Gäste\n+ 10\,00 € für Instrumentbenutzung\nOrt: Sporthalle Forscherhaus Südring 111\, Bünde-Mitte\nKursleitung & Anmeldung:\nAnnette Giesen-Waltersmann und Theodor Saathoff 05223-12254
URL:https://kneipp-verein-buende.de/veranstaltungen/trommelgruppe-sayolee/2027-04-12/
CATEGORIES:Besonderes
END:VEVENT
BEGIN:VEVENT
DTSTART;TZID=Europe/Berlin:20270413T144500
DTEND;TZID=Europe/Berlin:20270413T164500
DTSTAMP:20260422T203239
CREATED:20251219T150500Z
LAST-MODIFIED:20260224T080842Z
UID:10000967-1807627500-1807634700@kneipp-verein-buende.de
SUMMARY:Waldbaden Dienstag
DESCRIPTION:Der Aufenthalt im Wald fördert nachweislich die Gesundheit und baut Stress ab. In der Natur kann der Atem als Quelle der Regeneration erlebt werden. Achtsamkeit und Meditation im Wald können ein Gedankenkarussell stoppen und die eigenen Energiereserven mobilisieren. \nWaldbaden ist für Teilnehmer jeden Alters geeignet. Es wird eine Strecke von ca. 4 km zurückgelegt. \nJeweils am Dienstag \n14.45 – 16.45 Uhr\nKurs A103: 10.03. – 28.04.26\nKurs A104: 25.08. – 27.10.26 (je 8 Termine) \nKursgebühr: 64\,00 € für Mitglieder / 80\,00 € für Gäste \nTreffpunkt: Parkplatz Kurhaus Bültermann\, Bäderstraße 102\, Bünde- Randringhausen \nKursleitung & Anmeldung:\nAnette Dunklau (Gesundheitspädagogin)\, 05223-6588442
URL:https://kneipp-verein-buende.de/veranstaltungen/waldbaden-dienstag/2027-04-13/
CATEGORIES:Outdoor-Veranstaltungen
END:VEVENT
BEGIN:VEVENT
DTSTART;TZID=Europe/Berlin:20270415T101500
DTEND;TZID=Europe/Berlin:20270415T121500
DTSTAMP:20260422T203239
CREATED:20251219T145341Z
LAST-MODIFIED:20260224T080410Z
UID:10000881-1807784100-1807791300@kneipp-verein-buende.de
SUMMARY:Waldbaden Donnerstag
DESCRIPTION:Der Aufenthalt im Wald fördert nachweislich die Gesundheit und baut Stress ab. In der Natur kann der Atem als Quelle der Regeneration erlebt werden. Achtsamkeit und Meditation im Wald können ein Gedankenkarussell stoppen und die eigenen Energiereserven mobilisieren. \nWaldbaden ist für Teilnehmer jeden Alters geeignet. Es wird eine Strecke von ca. 4 km zurückgelegt. \nJeweils am Donnerstag \n10.15 – 12.15 Uhr\nKurs A100: 12.03. – 30.04.26\nKurs A101: 27.08. – 29.10.26 (je 8 Termine) \n\n\n\nKursgebühr: 64\,00 € für Mitglieder / 80\,00 € für Gäste \nTreffpunkt: Parkplatz Kurhaus Bültermann\, Bäderstraße 102\, Bünde- Randringhausen \nKursleitung & Anmeldung:\nAnette Dunklau (Gesundheitspädagogin)\, 05223-6588442
URL:https://kneipp-verein-buende.de/veranstaltungen/waldbaden-donnerstag/2027-04-15/
CATEGORIES:Outdoor-Veranstaltungen
END:VEVENT
BEGIN:VEVENT
DTSTART;TZID=Europe/Berlin:20270419T173000
DTEND;TZID=Europe/Berlin:20270419T184500
DTSTAMP:20260422T203239
CREATED:20260320T085141Z
LAST-MODIFIED:20260320T085840Z
UID:10002632-1808155800-1808160300@kneipp-verein-buende.de
SUMMARY:Trommelgruppe SAYOLEE
DESCRIPTION:Wenn in Westafrika getrommelt wird\, dann spielen stets\nmehrere Menschen auf verschiedenen Trommeln zusammen.\nIn Verbindung mit Rasseln und Glocken ergibt sich ein vielstimmiges\, mitreißendes rhythmisches Ganzes.\nDabei ist es nicht nur wichtig\, die eigene Spielstimme zu beherrschen\, sondern auch stets für die Mitspielenden aufmerksam zu sein.\nEine Teilnahme ist nur mit Vorkenntnissen möglich. \n\n\n\n\n\n\n\n\n\n\n\n\n\n\n\n\n\n\nJeweils am Montag 17.30 – 18.45 Uhr\n(jeweils 8 Termine)\nKurs C307: 19.01. – 09.03.2026\nKurs C308: 13.04. – 08.06.2026 (am 25.05. nicht)\nKurs C309: 07.09. – 28.09. + 02.11. – 23.11.2026 (im Oktober nicht)\nKursgebühr:\n48\,00 € für Mitglieder / 64\,00 € für Gäste\n+ 10\,00 € für Instrumentbenutzung\nOrt: Sporthalle Forscherhaus Südring 111\, Bünde-Mitte\nKursleitung & Anmeldung:\nAnnette Giesen-Waltersmann und Theodor Saathoff 05223-12254
URL:https://kneipp-verein-buende.de/veranstaltungen/trommelgruppe-sayolee/2027-04-19/
CATEGORIES:Besonderes
END:VEVENT
BEGIN:VEVENT
DTSTART;TZID=Europe/Berlin:20270420T144500
DTEND;TZID=Europe/Berlin:20270420T164500
DTSTAMP:20260422T203239
CREATED:20251219T150500Z
LAST-MODIFIED:20260224T080842Z
UID:10000968-1808232300-1808239500@kneipp-verein-buende.de
SUMMARY:Waldbaden Dienstag
DESCRIPTION:Der Aufenthalt im Wald fördert nachweislich die Gesundheit und baut Stress ab. In der Natur kann der Atem als Quelle der Regeneration erlebt werden. Achtsamkeit und Meditation im Wald können ein Gedankenkarussell stoppen und die eigenen Energiereserven mobilisieren. \nWaldbaden ist für Teilnehmer jeden Alters geeignet. Es wird eine Strecke von ca. 4 km zurückgelegt. \nJeweils am Dienstag \n14.45 – 16.45 Uhr\nKurs A103: 10.03. – 28.04.26\nKurs A104: 25.08. – 27.10.26 (je 8 Termine) \nKursgebühr: 64\,00 € für Mitglieder / 80\,00 € für Gäste \nTreffpunkt: Parkplatz Kurhaus Bültermann\, Bäderstraße 102\, Bünde- Randringhausen \nKursleitung & Anmeldung:\nAnette Dunklau (Gesundheitspädagogin)\, 05223-6588442
URL:https://kneipp-verein-buende.de/veranstaltungen/waldbaden-dienstag/2027-04-20/
CATEGORIES:Outdoor-Veranstaltungen
END:VEVENT
BEGIN:VEVENT
DTSTART;TZID=Europe/Berlin:20270422T101500
DTEND;TZID=Europe/Berlin:20270422T121500
DTSTAMP:20260422T203239
CREATED:20251219T145341Z
LAST-MODIFIED:20260224T080410Z
UID:10000882-1808388900-1808396100@kneipp-verein-buende.de
SUMMARY:Waldbaden Donnerstag
DESCRIPTION:Der Aufenthalt im Wald fördert nachweislich die Gesundheit und baut Stress ab. In der Natur kann der Atem als Quelle der Regeneration erlebt werden. Achtsamkeit und Meditation im Wald können ein Gedankenkarussell stoppen und die eigenen Energiereserven mobilisieren. \nWaldbaden ist für Teilnehmer jeden Alters geeignet. Es wird eine Strecke von ca. 4 km zurückgelegt. \nJeweils am Donnerstag \n10.15 – 12.15 Uhr\nKurs A100: 12.03. – 30.04.26\nKurs A101: 27.08. – 29.10.26 (je 8 Termine) \n\n\n\nKursgebühr: 64\,00 € für Mitglieder / 80\,00 € für Gäste \nTreffpunkt: Parkplatz Kurhaus Bültermann\, Bäderstraße 102\, Bünde- Randringhausen \nKursleitung & Anmeldung:\nAnette Dunklau (Gesundheitspädagogin)\, 05223-6588442
URL:https://kneipp-verein-buende.de/veranstaltungen/waldbaden-donnerstag/2027-04-22/
CATEGORIES:Outdoor-Veranstaltungen
END:VEVENT
BEGIN:VEVENT
DTSTART;TZID=Europe/Berlin:20270426T173000
DTEND;TZID=Europe/Berlin:20270426T184500
DTSTAMP:20260422T203239
CREATED:20260320T085141Z
LAST-MODIFIED:20260320T085840Z
UID:10002633-1808760600-1808765100@kneipp-verein-buende.de
SUMMARY:Trommelgruppe SAYOLEE
DESCRIPTION:Wenn in Westafrika getrommelt wird\, dann spielen stets\nmehrere Menschen auf verschiedenen Trommeln zusammen.\nIn Verbindung mit Rasseln und Glocken ergibt sich ein vielstimmiges\, mitreißendes rhythmisches Ganzes.\nDabei ist es nicht nur wichtig\, die eigene Spielstimme zu beherrschen\, sondern auch stets für die Mitspielenden aufmerksam zu sein.\nEine Teilnahme ist nur mit Vorkenntnissen möglich. \n\n\n\n\n\n\n\n\n\n\n\n\n\n\n\n\n\n\nJeweils am Montag 17.30 – 18.45 Uhr\n(jeweils 8 Termine)\nKurs C307: 19.01. – 09.03.2026\nKurs C308: 13.04. – 08.06.2026 (am 25.05. nicht)\nKurs C309: 07.09. – 28.09. + 02.11. – 23.11.2026 (im Oktober nicht)\nKursgebühr:\n48\,00 € für Mitglieder / 64\,00 € für Gäste\n+ 10\,00 € für Instrumentbenutzung\nOrt: Sporthalle Forscherhaus Südring 111\, Bünde-Mitte\nKursleitung & Anmeldung:\nAnnette Giesen-Waltersmann und Theodor Saathoff 05223-12254
URL:https://kneipp-verein-buende.de/veranstaltungen/trommelgruppe-sayolee/2027-04-26/
CATEGORIES:Besonderes
END:VEVENT
BEGIN:VEVENT
DTSTART;TZID=Europe/Berlin:20270427T144500
DTEND;TZID=Europe/Berlin:20270427T164500
DTSTAMP:20260422T203239
CREATED:20251219T150500Z
LAST-MODIFIED:20260224T080842Z
UID:10000969-1808837100-1808844300@kneipp-verein-buende.de
SUMMARY:Waldbaden Dienstag
DESCRIPTION:Der Aufenthalt im Wald fördert nachweislich die Gesundheit und baut Stress ab. In der Natur kann der Atem als Quelle der Regeneration erlebt werden. Achtsamkeit und Meditation im Wald können ein Gedankenkarussell stoppen und die eigenen Energiereserven mobilisieren. \nWaldbaden ist für Teilnehmer jeden Alters geeignet. Es wird eine Strecke von ca. 4 km zurückgelegt. \nJeweils am Dienstag \n14.45 – 16.45 Uhr\nKurs A103: 10.03. – 28.04.26\nKurs A104: 25.08. – 27.10.26 (je 8 Termine) \nKursgebühr: 64\,00 € für Mitglieder / 80\,00 € für Gäste \nTreffpunkt: Parkplatz Kurhaus Bültermann\, Bäderstraße 102\, Bünde- Randringhausen \nKursleitung & Anmeldung:\nAnette Dunklau (Gesundheitspädagogin)\, 05223-6588442
URL:https://kneipp-verein-buende.de/veranstaltungen/waldbaden-dienstag/2027-04-27/
CATEGORIES:Outdoor-Veranstaltungen
END:VEVENT
BEGIN:VEVENT
DTSTART;TZID=Europe/Berlin:20270429T101500
DTEND;TZID=Europe/Berlin:20270429T121500
DTSTAMP:20260422T203239
CREATED:20251219T145341Z
LAST-MODIFIED:20260224T080410Z
UID:10000883-1808993700-1809000900@kneipp-verein-buende.de
SUMMARY:Waldbaden Donnerstag
DESCRIPTION:Der Aufenthalt im Wald fördert nachweislich die Gesundheit und baut Stress ab. In der Natur kann der Atem als Quelle der Regeneration erlebt werden. Achtsamkeit und Meditation im Wald können ein Gedankenkarussell stoppen und die eigenen Energiereserven mobilisieren. \nWaldbaden ist für Teilnehmer jeden Alters geeignet. Es wird eine Strecke von ca. 4 km zurückgelegt. \nJeweils am Donnerstag \n10.15 – 12.15 Uhr\nKurs A100: 12.03. – 30.04.26\nKurs A101: 27.08. – 29.10.26 (je 8 Termine) \n\n\n\nKursgebühr: 64\,00 € für Mitglieder / 80\,00 € für Gäste \nTreffpunkt: Parkplatz Kurhaus Bültermann\, Bäderstraße 102\, Bünde- Randringhausen \nKursleitung & Anmeldung:\nAnette Dunklau (Gesundheitspädagogin)\, 05223-6588442
URL:https://kneipp-verein-buende.de/veranstaltungen/waldbaden-donnerstag/2027-04-29/
CATEGORIES:Outdoor-Veranstaltungen
END:VEVENT
END:VCALENDAR