BEGIN:VCALENDAR
VERSION:2.0
PRODID:-//Kneipp-Verein Bünde - ECPv6.15.20//NONSGML v1.0//EN
CALSCALE:GREGORIAN
METHOD:PUBLISH
X-ORIGINAL-URL:https://kneipp-verein-buende.de
X-WR-CALDESC:Veranstaltungen für Kneipp-Verein Bünde
REFRESH-INTERVAL;VALUE=DURATION:PT1H
X-Robots-Tag:noindex
X-PUBLISHED-TTL:PT1H
BEGIN:VTIMEZONE
TZID:Europe/Berlin
BEGIN:DAYLIGHT
TZOFFSETFROM:+0100
TZOFFSETTO:+0200
TZNAME:CEST
DTSTART:20260329T010000
END:DAYLIGHT
BEGIN:STANDARD
TZOFFSETFROM:+0200
TZOFFSETTO:+0100
TZNAME:CET
DTSTART:20261025T010000
END:STANDARD
BEGIN:DAYLIGHT
TZOFFSETFROM:+0100
TZOFFSETTO:+0200
TZNAME:CEST
DTSTART:20270328T010000
END:DAYLIGHT
BEGIN:STANDARD
TZOFFSETFROM:+0200
TZOFFSETTO:+0100
TZNAME:CET
DTSTART:20271031T010000
END:STANDARD
BEGIN:DAYLIGHT
TZOFFSETFROM:+0100
TZOFFSETTO:+0200
TZNAME:CEST
DTSTART:20280326T010000
END:DAYLIGHT
BEGIN:STANDARD
TZOFFSETFROM:+0200
TZOFFSETTO:+0100
TZNAME:CET
DTSTART:20281029T010000
END:STANDARD
END:VTIMEZONE
BEGIN:VEVENT
DTSTART;TZID=Europe/Berlin:20270104T173000
DTEND;TZID=Europe/Berlin:20270104T184500
DTSTAMP:20260422T153956
CREATED:20260320T085141Z
LAST-MODIFIED:20260320T085840Z
UID:10002617-1799083800-1799088300@kneipp-verein-buende.de
SUMMARY:Trommelgruppe SAYOLEE
DESCRIPTION:Wenn in Westafrika getrommelt wird\, dann spielen stets\nmehrere Menschen auf verschiedenen Trommeln zusammen.\nIn Verbindung mit Rasseln und Glocken ergibt sich ein vielstimmiges\, mitreißendes rhythmisches Ganzes.\nDabei ist es nicht nur wichtig\, die eigene Spielstimme zu beherrschen\, sondern auch stets für die Mitspielenden aufmerksam zu sein.\nEine Teilnahme ist nur mit Vorkenntnissen möglich. \n\n\n\n\n\n\n\n\n\n\n\n\n\n\n\n\n\n\nJeweils am Montag 17.30 – 18.45 Uhr\n(jeweils 8 Termine)\nKurs C307: 19.01. – 09.03.2026\nKurs C308: 13.04. – 08.06.2026 (am 25.05. nicht)\nKurs C309: 07.09. – 28.09. + 02.11. – 23.11.2026 (im Oktober nicht)\nKursgebühr:\n48\,00 € für Mitglieder / 64\,00 € für Gäste\n+ 10\,00 € für Instrumentbenutzung\nOrt: Sporthalle Forscherhaus Südring 111\, Bünde-Mitte\nKursleitung & Anmeldung:\nAnnette Giesen-Waltersmann und Theodor Saathoff 05223-12254
URL:https://kneipp-verein-buende.de/veranstaltungen/trommelgruppe-sayolee/2027-01-04/
CATEGORIES:Besonderes
END:VEVENT
BEGIN:VEVENT
DTSTART;TZID=Europe/Berlin:20270105T144500
DTEND;TZID=Europe/Berlin:20270105T164500
DTSTAMP:20260422T153956
CREATED:20251219T150500Z
LAST-MODIFIED:20260224T080842Z
UID:10000953-1799160300-1799167500@kneipp-verein-buende.de
SUMMARY:Waldbaden Dienstag
DESCRIPTION:Der Aufenthalt im Wald fördert nachweislich die Gesundheit und baut Stress ab. In der Natur kann der Atem als Quelle der Regeneration erlebt werden. Achtsamkeit und Meditation im Wald können ein Gedankenkarussell stoppen und die eigenen Energiereserven mobilisieren. \nWaldbaden ist für Teilnehmer jeden Alters geeignet. Es wird eine Strecke von ca. 4 km zurückgelegt. \nJeweils am Dienstag \n14.45 – 16.45 Uhr\nKurs A103: 10.03. – 28.04.26\nKurs A104: 25.08. – 27.10.26 (je 8 Termine) \nKursgebühr: 64\,00 € für Mitglieder / 80\,00 € für Gäste \nTreffpunkt: Parkplatz Kurhaus Bültermann\, Bäderstraße 102\, Bünde- Randringhausen \nKursleitung & Anmeldung:\nAnette Dunklau (Gesundheitspädagogin)\, 05223-6588442
URL:https://kneipp-verein-buende.de/veranstaltungen/waldbaden-dienstag/2027-01-05/
CATEGORIES:Outdoor-Veranstaltungen
END:VEVENT
BEGIN:VEVENT
DTSTART;TZID=Europe/Berlin:20270107T101500
DTEND;TZID=Europe/Berlin:20270107T121500
DTSTAMP:20260422T153956
CREATED:20251219T145341Z
LAST-MODIFIED:20260224T080410Z
UID:10000867-1799316900-1799324100@kneipp-verein-buende.de
SUMMARY:Waldbaden Donnerstag
DESCRIPTION:Der Aufenthalt im Wald fördert nachweislich die Gesundheit und baut Stress ab. In der Natur kann der Atem als Quelle der Regeneration erlebt werden. Achtsamkeit und Meditation im Wald können ein Gedankenkarussell stoppen und die eigenen Energiereserven mobilisieren. \nWaldbaden ist für Teilnehmer jeden Alters geeignet. Es wird eine Strecke von ca. 4 km zurückgelegt. \nJeweils am Donnerstag \n10.15 – 12.15 Uhr\nKurs A100: 12.03. – 30.04.26\nKurs A101: 27.08. – 29.10.26 (je 8 Termine) \n\n\n\nKursgebühr: 64\,00 € für Mitglieder / 80\,00 € für Gäste \nTreffpunkt: Parkplatz Kurhaus Bültermann\, Bäderstraße 102\, Bünde- Randringhausen \nKursleitung & Anmeldung:\nAnette Dunklau (Gesundheitspädagogin)\, 05223-6588442
URL:https://kneipp-verein-buende.de/veranstaltungen/waldbaden-donnerstag/2027-01-07/
CATEGORIES:Outdoor-Veranstaltungen
END:VEVENT
BEGIN:VEVENT
DTSTART;TZID=Europe/Berlin:20270111T173000
DTEND;TZID=Europe/Berlin:20270111T184500
DTSTAMP:20260422T153956
CREATED:20260320T085141Z
LAST-MODIFIED:20260320T085840Z
UID:10002618-1799688600-1799693100@kneipp-verein-buende.de
SUMMARY:Trommelgruppe SAYOLEE
DESCRIPTION:Wenn in Westafrika getrommelt wird\, dann spielen stets\nmehrere Menschen auf verschiedenen Trommeln zusammen.\nIn Verbindung mit Rasseln und Glocken ergibt sich ein vielstimmiges\, mitreißendes rhythmisches Ganzes.\nDabei ist es nicht nur wichtig\, die eigene Spielstimme zu beherrschen\, sondern auch stets für die Mitspielenden aufmerksam zu sein.\nEine Teilnahme ist nur mit Vorkenntnissen möglich. \n\n\n\n\n\n\n\n\n\n\n\n\n\n\n\n\n\n\nJeweils am Montag 17.30 – 18.45 Uhr\n(jeweils 8 Termine)\nKurs C307: 19.01. – 09.03.2026\nKurs C308: 13.04. – 08.06.2026 (am 25.05. nicht)\nKurs C309: 07.09. – 28.09. + 02.11. – 23.11.2026 (im Oktober nicht)\nKursgebühr:\n48\,00 € für Mitglieder / 64\,00 € für Gäste\n+ 10\,00 € für Instrumentbenutzung\nOrt: Sporthalle Forscherhaus Südring 111\, Bünde-Mitte\nKursleitung & Anmeldung:\nAnnette Giesen-Waltersmann und Theodor Saathoff 05223-12254
URL:https://kneipp-verein-buende.de/veranstaltungen/trommelgruppe-sayolee/2027-01-11/
CATEGORIES:Besonderes
END:VEVENT
BEGIN:VEVENT
DTSTART;TZID=Europe/Berlin:20270112T144500
DTEND;TZID=Europe/Berlin:20270112T164500
DTSTAMP:20260422T153956
CREATED:20251219T150500Z
LAST-MODIFIED:20260224T080842Z
UID:10000954-1799765100-1799772300@kneipp-verein-buende.de
SUMMARY:Waldbaden Dienstag
DESCRIPTION:Der Aufenthalt im Wald fördert nachweislich die Gesundheit und baut Stress ab. In der Natur kann der Atem als Quelle der Regeneration erlebt werden. Achtsamkeit und Meditation im Wald können ein Gedankenkarussell stoppen und die eigenen Energiereserven mobilisieren. \nWaldbaden ist für Teilnehmer jeden Alters geeignet. Es wird eine Strecke von ca. 4 km zurückgelegt. \nJeweils am Dienstag \n14.45 – 16.45 Uhr\nKurs A103: 10.03. – 28.04.26\nKurs A104: 25.08. – 27.10.26 (je 8 Termine) \nKursgebühr: 64\,00 € für Mitglieder / 80\,00 € für Gäste \nTreffpunkt: Parkplatz Kurhaus Bültermann\, Bäderstraße 102\, Bünde- Randringhausen \nKursleitung & Anmeldung:\nAnette Dunklau (Gesundheitspädagogin)\, 05223-6588442
URL:https://kneipp-verein-buende.de/veranstaltungen/waldbaden-dienstag/2027-01-12/
CATEGORIES:Outdoor-Veranstaltungen
END:VEVENT
BEGIN:VEVENT
DTSTART;TZID=Europe/Berlin:20270114T101500
DTEND;TZID=Europe/Berlin:20270114T121500
DTSTAMP:20260422T153956
CREATED:20251219T145341Z
LAST-MODIFIED:20260224T080410Z
UID:10000868-1799921700-1799928900@kneipp-verein-buende.de
SUMMARY:Waldbaden Donnerstag
DESCRIPTION:Der Aufenthalt im Wald fördert nachweislich die Gesundheit und baut Stress ab. In der Natur kann der Atem als Quelle der Regeneration erlebt werden. Achtsamkeit und Meditation im Wald können ein Gedankenkarussell stoppen und die eigenen Energiereserven mobilisieren. \nWaldbaden ist für Teilnehmer jeden Alters geeignet. Es wird eine Strecke von ca. 4 km zurückgelegt. \nJeweils am Donnerstag \n10.15 – 12.15 Uhr\nKurs A100: 12.03. – 30.04.26\nKurs A101: 27.08. – 29.10.26 (je 8 Termine) \n\n\n\nKursgebühr: 64\,00 € für Mitglieder / 80\,00 € für Gäste \nTreffpunkt: Parkplatz Kurhaus Bültermann\, Bäderstraße 102\, Bünde- Randringhausen \nKursleitung & Anmeldung:\nAnette Dunklau (Gesundheitspädagogin)\, 05223-6588442
URL:https://kneipp-verein-buende.de/veranstaltungen/waldbaden-donnerstag/2027-01-14/
CATEGORIES:Outdoor-Veranstaltungen
END:VEVENT
BEGIN:VEVENT
DTSTART;TZID=Europe/Berlin:20270118T173000
DTEND;TZID=Europe/Berlin:20270118T184500
DTSTAMP:20260422T153956
CREATED:20260320T085141Z
LAST-MODIFIED:20260320T085840Z
UID:10002619-1800293400-1800297900@kneipp-verein-buende.de
SUMMARY:Trommelgruppe SAYOLEE
DESCRIPTION:Wenn in Westafrika getrommelt wird\, dann spielen stets\nmehrere Menschen auf verschiedenen Trommeln zusammen.\nIn Verbindung mit Rasseln und Glocken ergibt sich ein vielstimmiges\, mitreißendes rhythmisches Ganzes.\nDabei ist es nicht nur wichtig\, die eigene Spielstimme zu beherrschen\, sondern auch stets für die Mitspielenden aufmerksam zu sein.\nEine Teilnahme ist nur mit Vorkenntnissen möglich. \n\n\n\n\n\n\n\n\n\n\n\n\n\n\n\n\n\n\nJeweils am Montag 17.30 – 18.45 Uhr\n(jeweils 8 Termine)\nKurs C307: 19.01. – 09.03.2026\nKurs C308: 13.04. – 08.06.2026 (am 25.05. nicht)\nKurs C309: 07.09. – 28.09. + 02.11. – 23.11.2026 (im Oktober nicht)\nKursgebühr:\n48\,00 € für Mitglieder / 64\,00 € für Gäste\n+ 10\,00 € für Instrumentbenutzung\nOrt: Sporthalle Forscherhaus Südring 111\, Bünde-Mitte\nKursleitung & Anmeldung:\nAnnette Giesen-Waltersmann und Theodor Saathoff 05223-12254
URL:https://kneipp-verein-buende.de/veranstaltungen/trommelgruppe-sayolee/2027-01-18/
CATEGORIES:Besonderes
END:VEVENT
BEGIN:VEVENT
DTSTART;TZID=Europe/Berlin:20270119T144500
DTEND;TZID=Europe/Berlin:20270119T164500
DTSTAMP:20260422T153956
CREATED:20251219T150500Z
LAST-MODIFIED:20260224T080842Z
UID:10000955-1800369900-1800377100@kneipp-verein-buende.de
SUMMARY:Waldbaden Dienstag
DESCRIPTION:Der Aufenthalt im Wald fördert nachweislich die Gesundheit und baut Stress ab. In der Natur kann der Atem als Quelle der Regeneration erlebt werden. Achtsamkeit und Meditation im Wald können ein Gedankenkarussell stoppen und die eigenen Energiereserven mobilisieren. \nWaldbaden ist für Teilnehmer jeden Alters geeignet. Es wird eine Strecke von ca. 4 km zurückgelegt. \nJeweils am Dienstag \n14.45 – 16.45 Uhr\nKurs A103: 10.03. – 28.04.26\nKurs A104: 25.08. – 27.10.26 (je 8 Termine) \nKursgebühr: 64\,00 € für Mitglieder / 80\,00 € für Gäste \nTreffpunkt: Parkplatz Kurhaus Bültermann\, Bäderstraße 102\, Bünde- Randringhausen \nKursleitung & Anmeldung:\nAnette Dunklau (Gesundheitspädagogin)\, 05223-6588442
URL:https://kneipp-verein-buende.de/veranstaltungen/waldbaden-dienstag/2027-01-19/
CATEGORIES:Outdoor-Veranstaltungen
END:VEVENT
BEGIN:VEVENT
DTSTART;TZID=Europe/Berlin:20270121T101500
DTEND;TZID=Europe/Berlin:20270121T121500
DTSTAMP:20260422T153956
CREATED:20251219T145341Z
LAST-MODIFIED:20260224T080410Z
UID:10000869-1800526500-1800533700@kneipp-verein-buende.de
SUMMARY:Waldbaden Donnerstag
DESCRIPTION:Der Aufenthalt im Wald fördert nachweislich die Gesundheit und baut Stress ab. In der Natur kann der Atem als Quelle der Regeneration erlebt werden. Achtsamkeit und Meditation im Wald können ein Gedankenkarussell stoppen und die eigenen Energiereserven mobilisieren. \nWaldbaden ist für Teilnehmer jeden Alters geeignet. Es wird eine Strecke von ca. 4 km zurückgelegt. \nJeweils am Donnerstag \n10.15 – 12.15 Uhr\nKurs A100: 12.03. – 30.04.26\nKurs A101: 27.08. – 29.10.26 (je 8 Termine) \n\n\n\nKursgebühr: 64\,00 € für Mitglieder / 80\,00 € für Gäste \nTreffpunkt: Parkplatz Kurhaus Bültermann\, Bäderstraße 102\, Bünde- Randringhausen \nKursleitung & Anmeldung:\nAnette Dunklau (Gesundheitspädagogin)\, 05223-6588442
URL:https://kneipp-verein-buende.de/veranstaltungen/waldbaden-donnerstag/2027-01-21/
CATEGORIES:Outdoor-Veranstaltungen
END:VEVENT
BEGIN:VEVENT
DTSTART;TZID=Europe/Berlin:20270125T173000
DTEND;TZID=Europe/Berlin:20270125T184500
DTSTAMP:20260422T153956
CREATED:20260320T085141Z
LAST-MODIFIED:20260320T085840Z
UID:10002620-1800898200-1800902700@kneipp-verein-buende.de
SUMMARY:Trommelgruppe SAYOLEE
DESCRIPTION:Wenn in Westafrika getrommelt wird\, dann spielen stets\nmehrere Menschen auf verschiedenen Trommeln zusammen.\nIn Verbindung mit Rasseln und Glocken ergibt sich ein vielstimmiges\, mitreißendes rhythmisches Ganzes.\nDabei ist es nicht nur wichtig\, die eigene Spielstimme zu beherrschen\, sondern auch stets für die Mitspielenden aufmerksam zu sein.\nEine Teilnahme ist nur mit Vorkenntnissen möglich. \n\n\n\n\n\n\n\n\n\n\n\n\n\n\n\n\n\n\nJeweils am Montag 17.30 – 18.45 Uhr\n(jeweils 8 Termine)\nKurs C307: 19.01. – 09.03.2026\nKurs C308: 13.04. – 08.06.2026 (am 25.05. nicht)\nKurs C309: 07.09. – 28.09. + 02.11. – 23.11.2026 (im Oktober nicht)\nKursgebühr:\n48\,00 € für Mitglieder / 64\,00 € für Gäste\n+ 10\,00 € für Instrumentbenutzung\nOrt: Sporthalle Forscherhaus Südring 111\, Bünde-Mitte\nKursleitung & Anmeldung:\nAnnette Giesen-Waltersmann und Theodor Saathoff 05223-12254
URL:https://kneipp-verein-buende.de/veranstaltungen/trommelgruppe-sayolee/2027-01-25/
CATEGORIES:Besonderes
END:VEVENT
BEGIN:VEVENT
DTSTART;TZID=Europe/Berlin:20270126T144500
DTEND;TZID=Europe/Berlin:20270126T164500
DTSTAMP:20260422T153956
CREATED:20251219T150500Z
LAST-MODIFIED:20260224T080842Z
UID:10000956-1800974700-1800981900@kneipp-verein-buende.de
SUMMARY:Waldbaden Dienstag
DESCRIPTION:Der Aufenthalt im Wald fördert nachweislich die Gesundheit und baut Stress ab. In der Natur kann der Atem als Quelle der Regeneration erlebt werden. Achtsamkeit und Meditation im Wald können ein Gedankenkarussell stoppen und die eigenen Energiereserven mobilisieren. \nWaldbaden ist für Teilnehmer jeden Alters geeignet. Es wird eine Strecke von ca. 4 km zurückgelegt. \nJeweils am Dienstag \n14.45 – 16.45 Uhr\nKurs A103: 10.03. – 28.04.26\nKurs A104: 25.08. – 27.10.26 (je 8 Termine) \nKursgebühr: 64\,00 € für Mitglieder / 80\,00 € für Gäste \nTreffpunkt: Parkplatz Kurhaus Bültermann\, Bäderstraße 102\, Bünde- Randringhausen \nKursleitung & Anmeldung:\nAnette Dunklau (Gesundheitspädagogin)\, 05223-6588442
URL:https://kneipp-verein-buende.de/veranstaltungen/waldbaden-dienstag/2027-01-26/
CATEGORIES:Outdoor-Veranstaltungen
END:VEVENT
BEGIN:VEVENT
DTSTART;TZID=Europe/Berlin:20270128T101500
DTEND;TZID=Europe/Berlin:20270128T121500
DTSTAMP:20260422T153956
CREATED:20251219T145341Z
LAST-MODIFIED:20260224T080410Z
UID:10000870-1801131300-1801138500@kneipp-verein-buende.de
SUMMARY:Waldbaden Donnerstag
DESCRIPTION:Der Aufenthalt im Wald fördert nachweislich die Gesundheit und baut Stress ab. In der Natur kann der Atem als Quelle der Regeneration erlebt werden. Achtsamkeit und Meditation im Wald können ein Gedankenkarussell stoppen und die eigenen Energiereserven mobilisieren. \nWaldbaden ist für Teilnehmer jeden Alters geeignet. Es wird eine Strecke von ca. 4 km zurückgelegt. \nJeweils am Donnerstag \n10.15 – 12.15 Uhr\nKurs A100: 12.03. – 30.04.26\nKurs A101: 27.08. – 29.10.26 (je 8 Termine) \n\n\n\nKursgebühr: 64\,00 € für Mitglieder / 80\,00 € für Gäste \nTreffpunkt: Parkplatz Kurhaus Bültermann\, Bäderstraße 102\, Bünde- Randringhausen \nKursleitung & Anmeldung:\nAnette Dunklau (Gesundheitspädagogin)\, 05223-6588442
URL:https://kneipp-verein-buende.de/veranstaltungen/waldbaden-donnerstag/2027-01-28/
CATEGORIES:Outdoor-Veranstaltungen
END:VEVENT
END:VCALENDAR