BEGIN:VCALENDAR
VERSION:2.0
PRODID:-//Kneipp-Verein Bünde - ECPv6.15.20//NONSGML v1.0//EN
CALSCALE:GREGORIAN
METHOD:PUBLISH
X-ORIGINAL-URL:https://kneipp-verein-buende.de
X-WR-CALDESC:Veranstaltungen für Kneipp-Verein Bünde
REFRESH-INTERVAL;VALUE=DURATION:PT1H
X-Robots-Tag:noindex
X-PUBLISHED-TTL:PT1H
BEGIN:VTIMEZONE
TZID:Europe/Berlin
BEGIN:DAYLIGHT
TZOFFSETFROM:+0100
TZOFFSETTO:+0200
TZNAME:CEST
DTSTART:20260329T010000
END:DAYLIGHT
BEGIN:STANDARD
TZOFFSETFROM:+0200
TZOFFSETTO:+0100
TZNAME:CET
DTSTART:20261025T010000
END:STANDARD
BEGIN:DAYLIGHT
TZOFFSETFROM:+0100
TZOFFSETTO:+0200
TZNAME:CEST
DTSTART:20270328T010000
END:DAYLIGHT
BEGIN:STANDARD
TZOFFSETFROM:+0200
TZOFFSETTO:+0100
TZNAME:CET
DTSTART:20271031T010000
END:STANDARD
BEGIN:DAYLIGHT
TZOFFSETFROM:+0100
TZOFFSETTO:+0200
TZNAME:CEST
DTSTART:20280326T010000
END:DAYLIGHT
BEGIN:STANDARD
TZOFFSETFROM:+0200
TZOFFSETTO:+0100
TZNAME:CET
DTSTART:20281029T010000
END:STANDARD
END:VTIMEZONE
BEGIN:VEVENT
DTSTART;TZID=Europe/Berlin:20270503T173000
DTEND;TZID=Europe/Berlin:20270503T184500
DTSTAMP:20260423T011530
CREATED:20260320T085141Z
LAST-MODIFIED:20260320T085840Z
UID:10002634-1809365400-1809369900@kneipp-verein-buende.de
SUMMARY:Trommelgruppe SAYOLEE
DESCRIPTION:Wenn in Westafrika getrommelt wird\, dann spielen stets\nmehrere Menschen auf verschiedenen Trommeln zusammen.\nIn Verbindung mit Rasseln und Glocken ergibt sich ein vielstimmiges\, mitreißendes rhythmisches Ganzes.\nDabei ist es nicht nur wichtig\, die eigene Spielstimme zu beherrschen\, sondern auch stets für die Mitspielenden aufmerksam zu sein.\nEine Teilnahme ist nur mit Vorkenntnissen möglich. \n\n\n\n\n\n\n\n\n\n\n\n\n\n\n\n\n\n\nJeweils am Montag 17.30 – 18.45 Uhr\n(jeweils 8 Termine)\nKurs C307: 19.01. – 09.03.2026\nKurs C308: 13.04. – 08.06.2026 (am 25.05. nicht)\nKurs C309: 07.09. – 28.09. + 02.11. – 23.11.2026 (im Oktober nicht)\nKursgebühr:\n48\,00 € für Mitglieder / 64\,00 € für Gäste\n+ 10\,00 € für Instrumentbenutzung\nOrt: Sporthalle Forscherhaus Südring 111\, Bünde-Mitte\nKursleitung & Anmeldung:\nAnnette Giesen-Waltersmann und Theodor Saathoff 05223-12254
URL:https://kneipp-verein-buende.de/veranstaltungen/trommelgruppe-sayolee/2027-05-03/
CATEGORIES:Besonderes
END:VEVENT
END:VCALENDAR