BEGIN:VCALENDAR
VERSION:2.0
PRODID:-//Kneipp-Verein Bünde - ECPv6.15.20//NONSGML v1.0//EN
CALSCALE:GREGORIAN
METHOD:PUBLISH
X-ORIGINAL-URL:https://kneipp-verein-buende.de
X-WR-CALDESC:Veranstaltungen für Kneipp-Verein Bünde
REFRESH-INTERVAL;VALUE=DURATION:PT1H
X-Robots-Tag:noindex
X-PUBLISHED-TTL:PT1H
BEGIN:VTIMEZONE
TZID:Europe/Berlin
BEGIN:DAYLIGHT
TZOFFSETFROM:+0100
TZOFFSETTO:+0200
TZNAME:CEST
DTSTART:20250330T010000
END:DAYLIGHT
BEGIN:STANDARD
TZOFFSETFROM:+0200
TZOFFSETTO:+0100
TZNAME:CET
DTSTART:20251026T010000
END:STANDARD
BEGIN:DAYLIGHT
TZOFFSETFROM:+0100
TZOFFSETTO:+0200
TZNAME:CEST
DTSTART:20260329T010000
END:DAYLIGHT
BEGIN:STANDARD
TZOFFSETFROM:+0200
TZOFFSETTO:+0100
TZNAME:CET
DTSTART:20261025T010000
END:STANDARD
BEGIN:DAYLIGHT
TZOFFSETFROM:+0100
TZOFFSETTO:+0200
TZNAME:CEST
DTSTART:20270328T010000
END:DAYLIGHT
BEGIN:STANDARD
TZOFFSETFROM:+0200
TZOFFSETTO:+0100
TZNAME:CET
DTSTART:20271031T010000
END:STANDARD
END:VTIMEZONE
BEGIN:VEVENT
DTSTART;VALUE=DATE:20261010
DTEND;VALUE=DATE:20261011
DTSTAMP:20260422T122212
CREATED:20251219T131543Z
LAST-MODIFIED:20251219T131543Z
UID:10000258-1791590400-1791676799@kneipp-verein-buende.de
SUMMARY:Übungsleiter-Treffen
DESCRIPTION:
URL:https://kneipp-verein-buende.de/veranstaltungen/uebungsleiter-treffen-2/
CATEGORIES:Besondere Tage
END:VEVENT
BEGIN:VEVENT
DTSTART;TZID=Europe/Berlin:20261010T100000
DTEND;TZID=Europe/Berlin:20261010T120000
DTSTAMP:20260422T122212
CREATED:20251223T072959Z
LAST-MODIFIED:20260315T110412Z
UID:10001291-1791626400-1791633600@kneipp-verein-buende.de
SUMMARY:Spiel-Zeit
DESCRIPTION:Das Leben kann oft stressig und anspruchsvoll sein\, aber es ist wichtig\, sich regelmäßig Momente des Spiels und der Freude zu gönnen. Die Vorteile des Spiels für Erwachsene sind nicht nur vielfältig\, sondern auch essenziell für unser Wohlbefinden. Indem wir uns Zeit für diese Aktivitäten nehmen\, können wir unser Wohlbefinden steigern und uns in den stressigen Zeiten des Lebens besser fühlen. Also\, warum nicht heute noch einen Schritt zurück in die Kindheit machen und die einfache Freude am Spielen wiederentdecken? \nJeden 2. Samstag des Monats von 10.00 bis 12.00 Uhr\n(10. Jan.\, 14. Feb.\, 14. März\, 11. Apr.\, 16. Mai\, 13. Juni\, 11. Juli\, 08. Aug.\, 12. Sept.\, 10. Okt.\, 14. Nov.\, 12. Dez.) \nOrt: Vital-Treff\, Bahnhofstraße 78 \, 32257 Bünde\nTeilnahmegebühr: 3\,00 € für Mitglieder / 4\,00 € für Gäste \nKursleitung & Anmeldung: Andrea Rüter\, 0173-5316262
URL:https://kneipp-verein-buende.de/veranstaltungen/spiel-zeit/2026-10-10/
CATEGORIES:Besonderes
END:VEVENT
BEGIN:VEVENT
DTSTART;TZID=Europe/Berlin:20261010T100000
DTEND;TZID=Europe/Berlin:20261010T180000
DTSTAMP:20260422T122212
CREATED:20251104T083052Z
LAST-MODIFIED:20260331T191429Z
UID:10000025-1791626400-1791655200@kneipp-verein-buende.de
SUMMARY:🚍  Dortmund
DESCRIPTION:Wir besuchen eine immersive Ausstellung im Phoenix des Lumieres\, ein digitales Kunstzentrum in einer ehemaligen Gasgebläsehalle des Hochofenwerks Phoenix West. Die wechselnden Ausstellungen sind immer großen Kunstschaffenden der Kunstgeschichte gewidmet. Anschließend fahren wir gemeinsam zum Westfalenpark. Diesen können sie auf eigene Faust erkunden\, die Aussicht vom Florianturm genießen\, die dortige Gastronomie aufsuchen oder ein Picknick machen. \nAbfahrt: 10:00 Uhr\, Rückkehr ca. 18:00 Uhr \nAbfahrort für den Bus: Stadthalle Bünde\, Steinmeisterstr. 13 \nKosten für Busfahrt\, Eintritt Phoenix des Lumieres und Eintritt Westfalenpark inkl. Florianturm\n60\,00€ für Mitglieder/ 65\,00€ für Gäste \nAnmeldung bei Yvonne Kielsmeier-Seele\n0173 – 3169710 \n  \nAllgemeines:\nDie Teilnahme an den Busfahrten richtet sich nach der Reihenfolge der Anmeldungen. Die bei den Fahrten angegebenen Kosten werden bei den Mitgliedern zehn Tage vor Fahrttermin mittels Lastschrift eingezogen. Gäste überweisen den Betrag für eine verbindliche Anmeldung innerhalb einer Woche nach Anmeldung oder erteilen dem Kneipp-Verein Bünde ein SEPA-Lastschriftmandat. \nAb zwei Wochen vor dem Fahrttermin sind bei Abmeldung die Fahrtkosten zu übernehmen. \nPreisänderungen sind vorbehalten. \nDie Teilnahme an Fahrten\, Besichtigungen und Wanderungen erfolgt immer auf eigene Gefahr. Der Kneipp-Verein Bünde übernimmt keien Haftung irgendwelcher Art.
URL:https://kneipp-verein-buende.de/veranstaltungen/dortmund/
CATEGORIES:Ausflüge & Wanderungen
END:VEVENT
END:VCALENDAR