BEGIN:VCALENDAR
VERSION:2.0
PRODID:-//Kneipp-Verein Bünde - ECPv6.15.20//NONSGML v1.0//EN
CALSCALE:GREGORIAN
METHOD:PUBLISH
X-ORIGINAL-URL:https://kneipp-verein-buende.de
X-WR-CALDESC:Veranstaltungen für Kneipp-Verein Bünde
REFRESH-INTERVAL;VALUE=DURATION:PT1H
X-Robots-Tag:noindex
X-PUBLISHED-TTL:PT1H
BEGIN:VTIMEZONE
TZID:Europe/Berlin
BEGIN:DAYLIGHT
TZOFFSETFROM:+0100
TZOFFSETTO:+0200
TZNAME:CEST
DTSTART:20250330T010000
END:DAYLIGHT
BEGIN:STANDARD
TZOFFSETFROM:+0200
TZOFFSETTO:+0100
TZNAME:CET
DTSTART:20251026T010000
END:STANDARD
BEGIN:DAYLIGHT
TZOFFSETFROM:+0100
TZOFFSETTO:+0200
TZNAME:CEST
DTSTART:20260329T010000
END:DAYLIGHT
BEGIN:STANDARD
TZOFFSETFROM:+0200
TZOFFSETTO:+0100
TZNAME:CET
DTSTART:20261025T010000
END:STANDARD
BEGIN:DAYLIGHT
TZOFFSETFROM:+0100
TZOFFSETTO:+0200
TZNAME:CEST
DTSTART:20270328T010000
END:DAYLIGHT
BEGIN:STANDARD
TZOFFSETFROM:+0200
TZOFFSETTO:+0100
TZNAME:CET
DTSTART:20271031T010000
END:STANDARD
END:VTIMEZONE
BEGIN:VEVENT
DTSTART;TZID=Europe/Berlin:20260909T090000
DTEND;TZID=Europe/Berlin:20260909T103000
DTSTAMP:20260422T110648
CREATED:20251222T132205Z
LAST-MODIFIED:20251222T132205Z
UID:10001190-1788944400-1788949800@kneipp-verein-buende.de
SUMMARY:Hatha Yoga Mittwoch
DESCRIPTION:Hatha Yoga ist ein sanfter Weg\, der dabei unterstützt\, im Alltag zu mehr Ruhe\, Ausgeglichenheit und Bewusstsein zu kommen. Die Übungen machen den Körper geschmeidig\, beugen Rückenproblemen und einseitigen Belastungen vor und sorgen in der Verbindung mit Atemschulung und Entspannungsphasen für Erholung und mehr Lebensfreude. \nJeweils am Mittwoch 9.00 bis 10.30 Uhr\nKurs B215: 14.01. – 24.03.2026\nKurs B216: 09.09. – 09.12.2026 (je 10 Termine) \nOrt: Vital-Treff\, Bahnhofstraße 78\, Bünde \n\n\n\nKursgebühr: 65\,00 € für Mitglieder / 75\,00 € für Gäste \n\n\n\nKursleitung & Anmeldung:\nFrauke Wellensiek (Yogalehrerin)\, 05223-6536650
URL:https://kneipp-verein-buende.de/veranstaltungen/hatha-yoga-mittwoch/2026-09-09/
CATEGORIES:Wahrnehmung & Achtsamkeit
END:VEVENT
BEGIN:VEVENT
DTSTART;TZID=Europe/Berlin:20260909T104500
DTEND;TZID=Europe/Berlin:20260909T121500
DTSTAMP:20260422T110648
CREATED:20251222T110306Z
LAST-MODIFIED:20251222T114802Z
UID:10001025-1788950700-1788956100@kneipp-verein-buende.de
SUMMARY:Feldenkrais Vormittags
DESCRIPTION:Mit der Feldenkraismethode lassen sich chronische Schmerzen und Bewegungseinschränkungen jeder Art günstig beeinflussen. Über eine differenzierte Wahrnehmung des Körpers lösen sich Verspannungen\, die Atmung wird weiter\, die Haltung freier und aufrechter. Dieses Um- und Neulernen ist während des gesamten Lebens möglich; es ist unabhängig von Beweglichkeit\, Alter oder Beruf. \nJeweils am Mittwoch\n10.45 – 12.15 Uhr (je 10 Termine) \n\n\n\n\nKurs B200: 07.01. – 11.03.2026\nKurs B201: 08.04. – 10.06.2026\nKurs B202: 02.09. – 04.11.2026 \nOrt: Vital-Treff Bahnhofstraße 78 \, 32257 Bünde Kursgebühr: 80\,00 € für Mitglieder / 110\,00 € für Gäste \nKursleitung & Anmeldung:\nChristel Finkemeyer (Feldenkrais-Leiterin)\, 05223-6532046
URL:https://kneipp-verein-buende.de/veranstaltungen/feldenkrais/2026-09-09/
CATEGORIES:Wahrnehmung & Achtsamkeit
END:VEVENT
BEGIN:VEVENT
DTSTART;TZID=Europe/Berlin:20260909T180000
DTEND;TZID=Europe/Berlin:20260909T210000
DTSTAMP:20260422T110649
CREATED:20251223T071533Z
LAST-MODIFIED:20251223T071533Z
UID:10001278-1788976800-1788987600@kneipp-verein-buende.de
SUMMARY:Kochabend: levante Gerichte – gemeinsam orientalisch geniessen - Kochen & Genießen
DESCRIPTION:An den Kochabenden wird gemeinschaftlich gekocht und im Anschluss zusammen am großen Tisch gegessen.\nFür eventuelle Reste bitte ein Gefäß mitbringen. \nJeweils am Mittwoch 18.00 – 21.00 Uhr \n• 09.09.2026 levante Gerichte – gemeinsam orientalisch geniessen \nOrt: EKG-Lehrküche\, Ringstraße 59\, Bünde-Ennigloh\nGebühr pro Abend: 20\,00 € für Mitglieder / 25\,00 € für Gäste\n! Es entstehen zusätzlich Kosten für Lebensmittel \nLeitung: Ulrike Binnewitt (Hauswirtschafterin) \nEine Anmeldung ist bis spätestens 10 Tage vor dem Kochtermin erforderlich!\nAnmeldung: Kneipp-Geschäftsstelle\, 05223-130589
URL:https://kneipp-verein-buende.de/veranstaltungen/kochabend-levante-gerichte-gemeinsam-orientalisch-geniessen-kochen-geniessen/
CATEGORIES:Rund ums Essen
END:VEVENT
BEGIN:VEVENT
DTSTART;TZID=Europe/Berlin:20260909T184500
DTEND;TZID=Europe/Berlin:20260909T201500
DTSTAMP:20260422T110649
CREATED:20251222T113726Z
LAST-MODIFIED:20251222T113858Z
UID:10001073-1788979500-1788984900@kneipp-verein-buende.de
SUMMARY:Feldenkrais abends
DESCRIPTION:Mit der Feldenkraismethode lassen sich chronische Schmerzen und Bewegungseinschränkungen jeder Art günstig beeinflussen. Über eine differenzierte Wahrnehmung des Körpers lösen sich Verspannungen\, die Atmung wird weiter\, die Haltung freier und aufrechter. Dieses Um- und Neulernen ist während des gesamten Lebens möglich; es ist unabhängig von Beweglichkeit\, Alter oder Beruf. \n18.45 – 20.15 (je 10 Termine) \nKurs B203: 07.01. – 11.03.2026\nKurs B204: 08.04. – 10.06.2026\nKurs B205: 02.09. – 04.11.2026 \n\n\n\nOrt: Vital-Treff Bahnhofstraße 78 \, 32257 Bünde Kursgebühr: 80\,00 € für Mitglieder / 110\,00 € für Gäste \nKursleitung & Anmeldung:\nChristel Finkemeyer (Feldenkrais-Leiterin)\, 05223-6532046
URL:https://kneipp-verein-buende.de/veranstaltungen/feldenkrais-abends/2026-09-09/
CATEGORIES:Wahrnehmung & Achtsamkeit
END:VEVENT
BEGIN:VEVENT
DTSTART;TZID=Europe/Berlin:20260909T190000
DTEND;TZID=Europe/Berlin:20260909T203000
DTSTAMP:20260422T110649
CREATED:20251219T134431Z
LAST-MODIFIED:20251219T134431Z
UID:10000266-1788980400-1788985800@kneipp-verein-buende.de
SUMMARY:Vortrag Wege zur Resilienz
DESCRIPTION:Regine Germies\, Gesundheitscoach\num 19.00 Uhr\nim Vital-Treff\, Bahnhofstr. 78\, Bünde\nohne Anmeldung & kostenlos
URL:https://kneipp-verein-buende.de/veranstaltungen/vortrag-wege-zur-resilienz/
CATEGORIES:Vorträge zu Gesundheit
END:VEVENT
END:VCALENDAR