BEGIN:VCALENDAR
VERSION:2.0
PRODID:-//Kneipp-Verein Bünde - ECPv6.15.20//NONSGML v1.0//EN
CALSCALE:GREGORIAN
METHOD:PUBLISH
X-ORIGINAL-URL:https://kneipp-verein-buende.de
X-WR-CALDESC:Veranstaltungen für Kneipp-Verein Bünde
REFRESH-INTERVAL;VALUE=DURATION:PT1H
X-Robots-Tag:noindex
X-PUBLISHED-TTL:PT1H
BEGIN:VTIMEZONE
TZID:Europe/Berlin
BEGIN:DAYLIGHT
TZOFFSETFROM:+0100
TZOFFSETTO:+0200
TZNAME:CEST
DTSTART:20250330T010000
END:DAYLIGHT
BEGIN:STANDARD
TZOFFSETFROM:+0200
TZOFFSETTO:+0100
TZNAME:CET
DTSTART:20251026T010000
END:STANDARD
BEGIN:DAYLIGHT
TZOFFSETFROM:+0100
TZOFFSETTO:+0200
TZNAME:CEST
DTSTART:20260329T010000
END:DAYLIGHT
BEGIN:STANDARD
TZOFFSETFROM:+0200
TZOFFSETTO:+0100
TZNAME:CET
DTSTART:20261025T010000
END:STANDARD
BEGIN:DAYLIGHT
TZOFFSETFROM:+0100
TZOFFSETTO:+0200
TZNAME:CEST
DTSTART:20270328T010000
END:DAYLIGHT
BEGIN:STANDARD
TZOFFSETFROM:+0200
TZOFFSETTO:+0100
TZNAME:CET
DTSTART:20271031T010000
END:STANDARD
END:VTIMEZONE
BEGIN:VEVENT
DTSTART;TZID=Europe/Berlin:20260106T140000
DTEND;TZID=Europe/Berlin:20260106T150000
DTSTAMP:20260419T143313
CREATED:20251223T131100Z
LAST-MODIFIED:20260106T161118Z
UID:10001862-1767708000-1767711600@kneipp-verein-buende.de
SUMMARY:Fit im Alter von Kopf bis Fuß 14 Uhr
DESCRIPTION:In diesem Kurs wird der Körper durch aufdehnende\, fließende Bewegungsabläufe in seiner Funktionsfähigkeit und vor allem auch im Bereich der Atmung unterstützt. Die Bewegungen erfolgen überwiegend im Sitzen zu Musik\, wodurch nebenbei das Gehör trainiert wird sowie die Koordinations- und Rhythmusfähigkeit. Elemente aus Yoga\, Taichi\, Qigong sowie Faszientraining finden in diesem Kurs ebenfalls Anwendung. \nOrt: Vital-Treff\, Bahnhofstraße 78\, Bünde \nJeweils am Dienstag 14.00 – 15.00 Uhr\nKurs D423: 06.01. – 10.03.2026 (10 Termine) Dieser Kurs entfällt!\nKurs D424: 14.04. -16.06.2026 (9 Termine)\nKurs D425: 30.06. – 01.09.2026 (10 Termine)\nKurs D426: 06.10. – 08.12.2026 (10 Termine) \nKursleitung & Anmeldung: Angelika Geesje Nack \n(Reha-Sport-Übungsleiterin)\, 05223-61109 \nKursgebühr:\n10 Termine: 40\,00 € für Mitglieder / 50\,00 € für Gäste\n9 Termine: 36\,00 € für Mitglieder / 45\,00 € für Gäste
URL:https://kneipp-verein-buende.de/veranstaltungen/fit-im-alter-von-kopf-bis-fuss-14-uhr/2026-01-06/
CATEGORIES:Reha-Sport & mehr
END:VEVENT
BEGIN:VEVENT
DTSTART;TZID=Europe/Berlin:20260106T151500
DTEND;TZID=Europe/Berlin:20260106T161500
DTSTAMP:20260419T143313
CREATED:20251223T131559Z
LAST-MODIFIED:20251223T132111Z
UID:10001941-1767712500-1767716100@kneipp-verein-buende.de
SUMMARY:Fit im Alter von Kopf bis Fuß 15.15 Uhr
DESCRIPTION:In diesem Kurs wird der Körper durch aufdehnende\, fließende Bewegungsabläufe in seiner Funktionsfähigkeit und vor allem auch im Bereich der Atmung unterstützt. Die Bewegungen erfolgen überwiegend im Sitzen zu Musik\, wodurch nebenbei das Gehör trainiert wird sowie die Koordinations- und Rhythmusfähigkeit. Elemente aus Yoga\, Taichi\, Qigong sowie Faszientraining finden in diesem Kurs ebenfalls Anwendung. \nOrt: Vital-Treff\, Bahnhofstraße 78\, Bünde \nJeweils am Dienstag 15.15 – 16.15 Uhr\nKurs D427: 06.01. – 10.03.2026 (10 Termine)\nKurs D428: 14.04. – 16.06.2026 (9 Termine)\nKurs D429: 30.06. – 01.09.2026 (10 Termine)\nKurs D430: 06.10. – 08.12.2026 (10 Termine) \nKursleitung & Anmeldung: Lore Knickmeier\, 0157-33994292 \nKursgebühr:\n10 Termine 9 Termine 40\,00 € für Mitglieder / 50\,00 € für Gäste\n36\,00 € für Mitglieder / 45\,00 € für Gäste
URL:https://kneipp-verein-buende.de/veranstaltungen/fit-im-alter-von-kopf-bis-fuss-15-15-uhr/2026-01-06/
CATEGORIES:Reha-Sport & mehr
END:VEVENT
END:VCALENDAR