BEGIN:VCALENDAR
VERSION:2.0
PRODID:-//Kneipp-Verein Bünde - ECPv6.15.20//NONSGML v1.0//EN
CALSCALE:GREGORIAN
METHOD:PUBLISH
X-WR-CALNAME:Kneipp-Verein Bünde
X-ORIGINAL-URL:https://kneipp-verein-buende.de
X-WR-CALDESC:Veranstaltungen für Kneipp-Verein Bünde
REFRESH-INTERVAL;VALUE=DURATION:PT1H
X-Robots-Tag:noindex
X-PUBLISHED-TTL:PT1H
BEGIN:VTIMEZONE
TZID:Europe/Berlin
BEGIN:DAYLIGHT
TZOFFSETFROM:+0100
TZOFFSETTO:+0200
TZNAME:CEST
DTSTART:20250330T010000
END:DAYLIGHT
BEGIN:STANDARD
TZOFFSETFROM:+0200
TZOFFSETTO:+0100
TZNAME:CET
DTSTART:20251026T010000
END:STANDARD
BEGIN:DAYLIGHT
TZOFFSETFROM:+0100
TZOFFSETTO:+0200
TZNAME:CEST
DTSTART:20260329T010000
END:DAYLIGHT
BEGIN:STANDARD
TZOFFSETFROM:+0200
TZOFFSETTO:+0100
TZNAME:CET
DTSTART:20261025T010000
END:STANDARD
BEGIN:DAYLIGHT
TZOFFSETFROM:+0100
TZOFFSETTO:+0200
TZNAME:CEST
DTSTART:20270328T010000
END:DAYLIGHT
BEGIN:STANDARD
TZOFFSETFROM:+0200
TZOFFSETTO:+0100
TZNAME:CET
DTSTART:20271031T010000
END:STANDARD
END:VTIMEZONE
BEGIN:VEVENT
DTSTART;TZID=Europe/Berlin:20260428T100000
DTEND;TZID=Europe/Berlin:20260428T110000
DTSTAMP:20260422T110730
CREATED:20251222T115500Z
LAST-MODIFIED:20251222T115500Z
UID:10001096-1777370400-1777374000@kneipp-verein-buende.de
SUMMARY:Qigong
DESCRIPTION:Die aus der fernöstlichen Kultur stammenden Übungsformen beziehen Körper und Geist gleichermaßen ein: Die langsamen\, fließenden und sanften Bewegungen entspannen\, harmonisieren die Atmung und führen zu innerer Ruhe. Körperliche Verspannungen werden abgebaut und die Beweglichkeit gefördert\, so dass ein positiveres Körpergefühl entsteht. \n\n\n\n\njeweils am Dienstag 10.00 – 11.00 Uhr \n\n\n\n\nKurs B206: 13.01. – 31.03.2026 (12 Termine)\nKurs B207: 14.04. – 30.06.2026 (12 Termine)\nKurs B208: 01.09. – 17.11.2026 (12 Termine) \n\n\n\n\nGebühr: 48\,00 € für Mitglieder\, 60\,00 € für Gäste Ort: Vital-Treff\, Bahnhofstraße 78\, Bünde \nKursleitung & Anmeldung: Carola Bartelheimer (Qigong-Kursleiterin der Dt. Qigong Gesellschaft e.V.)\, 05741-9750 oder C.Bartelheimer@gmx.net
URL:https://kneipp-verein-buende.de/veranstaltungen/qigong/2026-04-28/
CATEGORIES:Wahrnehmung & Achtsamkeit
END:VEVENT
BEGIN:VEVENT
DTSTART;TZID=Europe/Berlin:20260505T100000
DTEND;TZID=Europe/Berlin:20260505T110000
DTSTAMP:20260422T110730
CREATED:20251222T115500Z
LAST-MODIFIED:20251222T115500Z
UID:10001097-1777975200-1777978800@kneipp-verein-buende.de
SUMMARY:Qigong
DESCRIPTION:Die aus der fernöstlichen Kultur stammenden Übungsformen beziehen Körper und Geist gleichermaßen ein: Die langsamen\, fließenden und sanften Bewegungen entspannen\, harmonisieren die Atmung und führen zu innerer Ruhe. Körperliche Verspannungen werden abgebaut und die Beweglichkeit gefördert\, so dass ein positiveres Körpergefühl entsteht. \n\n\n\n\njeweils am Dienstag 10.00 – 11.00 Uhr \n\n\n\n\nKurs B206: 13.01. – 31.03.2026 (12 Termine)\nKurs B207: 14.04. – 30.06.2026 (12 Termine)\nKurs B208: 01.09. – 17.11.2026 (12 Termine) \n\n\n\n\nGebühr: 48\,00 € für Mitglieder\, 60\,00 € für Gäste Ort: Vital-Treff\, Bahnhofstraße 78\, Bünde \nKursleitung & Anmeldung: Carola Bartelheimer (Qigong-Kursleiterin der Dt. Qigong Gesellschaft e.V.)\, 05741-9750 oder C.Bartelheimer@gmx.net
URL:https://kneipp-verein-buende.de/veranstaltungen/qigong/2026-05-05/
CATEGORIES:Wahrnehmung & Achtsamkeit
END:VEVENT
BEGIN:VEVENT
DTSTART;TZID=Europe/Berlin:20260512T100000
DTEND;TZID=Europe/Berlin:20260512T110000
DTSTAMP:20260422T110730
CREATED:20251222T115500Z
LAST-MODIFIED:20251222T115500Z
UID:10001098-1778580000-1778583600@kneipp-verein-buende.de
SUMMARY:Qigong
DESCRIPTION:Die aus der fernöstlichen Kultur stammenden Übungsformen beziehen Körper und Geist gleichermaßen ein: Die langsamen\, fließenden und sanften Bewegungen entspannen\, harmonisieren die Atmung und führen zu innerer Ruhe. Körperliche Verspannungen werden abgebaut und die Beweglichkeit gefördert\, so dass ein positiveres Körpergefühl entsteht. \n\n\n\n\njeweils am Dienstag 10.00 – 11.00 Uhr \n\n\n\n\nKurs B206: 13.01. – 31.03.2026 (12 Termine)\nKurs B207: 14.04. – 30.06.2026 (12 Termine)\nKurs B208: 01.09. – 17.11.2026 (12 Termine) \n\n\n\n\nGebühr: 48\,00 € für Mitglieder\, 60\,00 € für Gäste Ort: Vital-Treff\, Bahnhofstraße 78\, Bünde \nKursleitung & Anmeldung: Carola Bartelheimer (Qigong-Kursleiterin der Dt. Qigong Gesellschaft e.V.)\, 05741-9750 oder C.Bartelheimer@gmx.net
URL:https://kneipp-verein-buende.de/veranstaltungen/qigong/2026-05-12/
CATEGORIES:Wahrnehmung & Achtsamkeit
END:VEVENT
BEGIN:VEVENT
DTSTART;TZID=Europe/Berlin:20260519T100000
DTEND;TZID=Europe/Berlin:20260519T110000
DTSTAMP:20260422T110730
CREATED:20251222T115500Z
LAST-MODIFIED:20251222T115500Z
UID:10001099-1779184800-1779188400@kneipp-verein-buende.de
SUMMARY:Qigong
DESCRIPTION:Die aus der fernöstlichen Kultur stammenden Übungsformen beziehen Körper und Geist gleichermaßen ein: Die langsamen\, fließenden und sanften Bewegungen entspannen\, harmonisieren die Atmung und führen zu innerer Ruhe. Körperliche Verspannungen werden abgebaut und die Beweglichkeit gefördert\, so dass ein positiveres Körpergefühl entsteht. \n\n\n\n\njeweils am Dienstag 10.00 – 11.00 Uhr \n\n\n\n\nKurs B206: 13.01. – 31.03.2026 (12 Termine)\nKurs B207: 14.04. – 30.06.2026 (12 Termine)\nKurs B208: 01.09. – 17.11.2026 (12 Termine) \n\n\n\n\nGebühr: 48\,00 € für Mitglieder\, 60\,00 € für Gäste Ort: Vital-Treff\, Bahnhofstraße 78\, Bünde \nKursleitung & Anmeldung: Carola Bartelheimer (Qigong-Kursleiterin der Dt. Qigong Gesellschaft e.V.)\, 05741-9750 oder C.Bartelheimer@gmx.net
URL:https://kneipp-verein-buende.de/veranstaltungen/qigong/2026-05-19/
CATEGORIES:Wahrnehmung & Achtsamkeit
END:VEVENT
BEGIN:VEVENT
DTSTART;TZID=Europe/Berlin:20260526T100000
DTEND;TZID=Europe/Berlin:20260526T110000
DTSTAMP:20260422T110730
CREATED:20251222T115500Z
LAST-MODIFIED:20251222T115500Z
UID:10001100-1779789600-1779793200@kneipp-verein-buende.de
SUMMARY:Qigong
DESCRIPTION:Die aus der fernöstlichen Kultur stammenden Übungsformen beziehen Körper und Geist gleichermaßen ein: Die langsamen\, fließenden und sanften Bewegungen entspannen\, harmonisieren die Atmung und führen zu innerer Ruhe. Körperliche Verspannungen werden abgebaut und die Beweglichkeit gefördert\, so dass ein positiveres Körpergefühl entsteht. \n\n\n\n\njeweils am Dienstag 10.00 – 11.00 Uhr \n\n\n\n\nKurs B206: 13.01. – 31.03.2026 (12 Termine)\nKurs B207: 14.04. – 30.06.2026 (12 Termine)\nKurs B208: 01.09. – 17.11.2026 (12 Termine) \n\n\n\n\nGebühr: 48\,00 € für Mitglieder\, 60\,00 € für Gäste Ort: Vital-Treff\, Bahnhofstraße 78\, Bünde \nKursleitung & Anmeldung: Carola Bartelheimer (Qigong-Kursleiterin der Dt. Qigong Gesellschaft e.V.)\, 05741-9750 oder C.Bartelheimer@gmx.net
URL:https://kneipp-verein-buende.de/veranstaltungen/qigong/2026-05-26/
CATEGORIES:Wahrnehmung & Achtsamkeit
END:VEVENT
BEGIN:VEVENT
DTSTART;TZID=Europe/Berlin:20260602T100000
DTEND;TZID=Europe/Berlin:20260602T110000
DTSTAMP:20260422T110730
CREATED:20251222T115500Z
LAST-MODIFIED:20251222T115500Z
UID:10001101-1780394400-1780398000@kneipp-verein-buende.de
SUMMARY:Qigong
DESCRIPTION:Die aus der fernöstlichen Kultur stammenden Übungsformen beziehen Körper und Geist gleichermaßen ein: Die langsamen\, fließenden und sanften Bewegungen entspannen\, harmonisieren die Atmung und führen zu innerer Ruhe. Körperliche Verspannungen werden abgebaut und die Beweglichkeit gefördert\, so dass ein positiveres Körpergefühl entsteht. \n\n\n\n\njeweils am Dienstag 10.00 – 11.00 Uhr \n\n\n\n\nKurs B206: 13.01. – 31.03.2026 (12 Termine)\nKurs B207: 14.04. – 30.06.2026 (12 Termine)\nKurs B208: 01.09. – 17.11.2026 (12 Termine) \n\n\n\n\nGebühr: 48\,00 € für Mitglieder\, 60\,00 € für Gäste Ort: Vital-Treff\, Bahnhofstraße 78\, Bünde \nKursleitung & Anmeldung: Carola Bartelheimer (Qigong-Kursleiterin der Dt. Qigong Gesellschaft e.V.)\, 05741-9750 oder C.Bartelheimer@gmx.net
URL:https://kneipp-verein-buende.de/veranstaltungen/qigong/2026-06-02/
CATEGORIES:Wahrnehmung & Achtsamkeit
END:VEVENT
BEGIN:VEVENT
DTSTART;TZID=Europe/Berlin:20260609T100000
DTEND;TZID=Europe/Berlin:20260609T110000
DTSTAMP:20260422T110730
CREATED:20251222T115500Z
LAST-MODIFIED:20251222T115500Z
UID:10001102-1780999200-1781002800@kneipp-verein-buende.de
SUMMARY:Qigong
DESCRIPTION:Die aus der fernöstlichen Kultur stammenden Übungsformen beziehen Körper und Geist gleichermaßen ein: Die langsamen\, fließenden und sanften Bewegungen entspannen\, harmonisieren die Atmung und führen zu innerer Ruhe. Körperliche Verspannungen werden abgebaut und die Beweglichkeit gefördert\, so dass ein positiveres Körpergefühl entsteht. \n\n\n\n\njeweils am Dienstag 10.00 – 11.00 Uhr \n\n\n\n\nKurs B206: 13.01. – 31.03.2026 (12 Termine)\nKurs B207: 14.04. – 30.06.2026 (12 Termine)\nKurs B208: 01.09. – 17.11.2026 (12 Termine) \n\n\n\n\nGebühr: 48\,00 € für Mitglieder\, 60\,00 € für Gäste Ort: Vital-Treff\, Bahnhofstraße 78\, Bünde \nKursleitung & Anmeldung: Carola Bartelheimer (Qigong-Kursleiterin der Dt. Qigong Gesellschaft e.V.)\, 05741-9750 oder C.Bartelheimer@gmx.net
URL:https://kneipp-verein-buende.de/veranstaltungen/qigong/2026-06-09/
CATEGORIES:Wahrnehmung & Achtsamkeit
END:VEVENT
BEGIN:VEVENT
DTSTART;TZID=Europe/Berlin:20260616T100000
DTEND;TZID=Europe/Berlin:20260616T110000
DTSTAMP:20260422T110730
CREATED:20251222T115500Z
LAST-MODIFIED:20251222T115500Z
UID:10001103-1781604000-1781607600@kneipp-verein-buende.de
SUMMARY:Qigong
DESCRIPTION:Die aus der fernöstlichen Kultur stammenden Übungsformen beziehen Körper und Geist gleichermaßen ein: Die langsamen\, fließenden und sanften Bewegungen entspannen\, harmonisieren die Atmung und führen zu innerer Ruhe. Körperliche Verspannungen werden abgebaut und die Beweglichkeit gefördert\, so dass ein positiveres Körpergefühl entsteht. \n\n\n\n\njeweils am Dienstag 10.00 – 11.00 Uhr \n\n\n\n\nKurs B206: 13.01. – 31.03.2026 (12 Termine)\nKurs B207: 14.04. – 30.06.2026 (12 Termine)\nKurs B208: 01.09. – 17.11.2026 (12 Termine) \n\n\n\n\nGebühr: 48\,00 € für Mitglieder\, 60\,00 € für Gäste Ort: Vital-Treff\, Bahnhofstraße 78\, Bünde \nKursleitung & Anmeldung: Carola Bartelheimer (Qigong-Kursleiterin der Dt. Qigong Gesellschaft e.V.)\, 05741-9750 oder C.Bartelheimer@gmx.net
URL:https://kneipp-verein-buende.de/veranstaltungen/qigong/2026-06-16/
CATEGORIES:Wahrnehmung & Achtsamkeit
END:VEVENT
BEGIN:VEVENT
DTSTART;TZID=Europe/Berlin:20260623T100000
DTEND;TZID=Europe/Berlin:20260623T110000
DTSTAMP:20260422T110730
CREATED:20251222T115500Z
LAST-MODIFIED:20251222T115500Z
UID:10001104-1782208800-1782212400@kneipp-verein-buende.de
SUMMARY:Qigong
DESCRIPTION:Die aus der fernöstlichen Kultur stammenden Übungsformen beziehen Körper und Geist gleichermaßen ein: Die langsamen\, fließenden und sanften Bewegungen entspannen\, harmonisieren die Atmung und führen zu innerer Ruhe. Körperliche Verspannungen werden abgebaut und die Beweglichkeit gefördert\, so dass ein positiveres Körpergefühl entsteht. \n\n\n\n\njeweils am Dienstag 10.00 – 11.00 Uhr \n\n\n\n\nKurs B206: 13.01. – 31.03.2026 (12 Termine)\nKurs B207: 14.04. – 30.06.2026 (12 Termine)\nKurs B208: 01.09. – 17.11.2026 (12 Termine) \n\n\n\n\nGebühr: 48\,00 € für Mitglieder\, 60\,00 € für Gäste Ort: Vital-Treff\, Bahnhofstraße 78\, Bünde \nKursleitung & Anmeldung: Carola Bartelheimer (Qigong-Kursleiterin der Dt. Qigong Gesellschaft e.V.)\, 05741-9750 oder C.Bartelheimer@gmx.net
URL:https://kneipp-verein-buende.de/veranstaltungen/qigong/2026-06-23/
CATEGORIES:Wahrnehmung & Achtsamkeit
END:VEVENT
BEGIN:VEVENT
DTSTART;TZID=Europe/Berlin:20260630T100000
DTEND;TZID=Europe/Berlin:20260630T110000
DTSTAMP:20260422T110730
CREATED:20251222T115500Z
LAST-MODIFIED:20251222T115500Z
UID:10001105-1782813600-1782817200@kneipp-verein-buende.de
SUMMARY:Qigong
DESCRIPTION:Die aus der fernöstlichen Kultur stammenden Übungsformen beziehen Körper und Geist gleichermaßen ein: Die langsamen\, fließenden und sanften Bewegungen entspannen\, harmonisieren die Atmung und führen zu innerer Ruhe. Körperliche Verspannungen werden abgebaut und die Beweglichkeit gefördert\, so dass ein positiveres Körpergefühl entsteht. \n\n\n\n\njeweils am Dienstag 10.00 – 11.00 Uhr \n\n\n\n\nKurs B206: 13.01. – 31.03.2026 (12 Termine)\nKurs B207: 14.04. – 30.06.2026 (12 Termine)\nKurs B208: 01.09. – 17.11.2026 (12 Termine) \n\n\n\n\nGebühr: 48\,00 € für Mitglieder\, 60\,00 € für Gäste Ort: Vital-Treff\, Bahnhofstraße 78\, Bünde \nKursleitung & Anmeldung: Carola Bartelheimer (Qigong-Kursleiterin der Dt. Qigong Gesellschaft e.V.)\, 05741-9750 oder C.Bartelheimer@gmx.net
URL:https://kneipp-verein-buende.de/veranstaltungen/qigong/2026-06-30/
CATEGORIES:Wahrnehmung & Achtsamkeit
END:VEVENT
BEGIN:VEVENT
DTSTART;TZID=Europe/Berlin:20260901T100000
DTEND;TZID=Europe/Berlin:20260901T110000
DTSTAMP:20260422T110730
CREATED:20251222T115500Z
LAST-MODIFIED:20251222T115500Z
UID:10001106-1788256800-1788260400@kneipp-verein-buende.de
SUMMARY:Qigong
DESCRIPTION:Die aus der fernöstlichen Kultur stammenden Übungsformen beziehen Körper und Geist gleichermaßen ein: Die langsamen\, fließenden und sanften Bewegungen entspannen\, harmonisieren die Atmung und führen zu innerer Ruhe. Körperliche Verspannungen werden abgebaut und die Beweglichkeit gefördert\, so dass ein positiveres Körpergefühl entsteht. \n\n\n\n\njeweils am Dienstag 10.00 – 11.00 Uhr \n\n\n\n\nKurs B206: 13.01. – 31.03.2026 (12 Termine)\nKurs B207: 14.04. – 30.06.2026 (12 Termine)\nKurs B208: 01.09. – 17.11.2026 (12 Termine) \n\n\n\n\nGebühr: 48\,00 € für Mitglieder\, 60\,00 € für Gäste Ort: Vital-Treff\, Bahnhofstraße 78\, Bünde \nKursleitung & Anmeldung: Carola Bartelheimer (Qigong-Kursleiterin der Dt. Qigong Gesellschaft e.V.)\, 05741-9750 oder C.Bartelheimer@gmx.net
URL:https://kneipp-verein-buende.de/veranstaltungen/qigong/2026-09-01/
CATEGORIES:Wahrnehmung & Achtsamkeit
END:VEVENT
BEGIN:VEVENT
DTSTART;TZID=Europe/Berlin:20260908T100000
DTEND;TZID=Europe/Berlin:20260908T110000
DTSTAMP:20260422T110730
CREATED:20251222T115500Z
LAST-MODIFIED:20251222T115500Z
UID:10001107-1788861600-1788865200@kneipp-verein-buende.de
SUMMARY:Qigong
DESCRIPTION:Die aus der fernöstlichen Kultur stammenden Übungsformen beziehen Körper und Geist gleichermaßen ein: Die langsamen\, fließenden und sanften Bewegungen entspannen\, harmonisieren die Atmung und führen zu innerer Ruhe. Körperliche Verspannungen werden abgebaut und die Beweglichkeit gefördert\, so dass ein positiveres Körpergefühl entsteht. \n\n\n\n\njeweils am Dienstag 10.00 – 11.00 Uhr \n\n\n\n\nKurs B206: 13.01. – 31.03.2026 (12 Termine)\nKurs B207: 14.04. – 30.06.2026 (12 Termine)\nKurs B208: 01.09. – 17.11.2026 (12 Termine) \n\n\n\n\nGebühr: 48\,00 € für Mitglieder\, 60\,00 € für Gäste Ort: Vital-Treff\, Bahnhofstraße 78\, Bünde \nKursleitung & Anmeldung: Carola Bartelheimer (Qigong-Kursleiterin der Dt. Qigong Gesellschaft e.V.)\, 05741-9750 oder C.Bartelheimer@gmx.net
URL:https://kneipp-verein-buende.de/veranstaltungen/qigong/2026-09-08/
CATEGORIES:Wahrnehmung & Achtsamkeit
END:VEVENT
BEGIN:VEVENT
DTSTART;TZID=Europe/Berlin:20260915T100000
DTEND;TZID=Europe/Berlin:20260915T110000
DTSTAMP:20260422T110730
CREATED:20251222T115500Z
LAST-MODIFIED:20251222T115500Z
UID:10001108-1789466400-1789470000@kneipp-verein-buende.de
SUMMARY:Qigong
DESCRIPTION:Die aus der fernöstlichen Kultur stammenden Übungsformen beziehen Körper und Geist gleichermaßen ein: Die langsamen\, fließenden und sanften Bewegungen entspannen\, harmonisieren die Atmung und führen zu innerer Ruhe. Körperliche Verspannungen werden abgebaut und die Beweglichkeit gefördert\, so dass ein positiveres Körpergefühl entsteht. \n\n\n\n\njeweils am Dienstag 10.00 – 11.00 Uhr \n\n\n\n\nKurs B206: 13.01. – 31.03.2026 (12 Termine)\nKurs B207: 14.04. – 30.06.2026 (12 Termine)\nKurs B208: 01.09. – 17.11.2026 (12 Termine) \n\n\n\n\nGebühr: 48\,00 € für Mitglieder\, 60\,00 € für Gäste Ort: Vital-Treff\, Bahnhofstraße 78\, Bünde \nKursleitung & Anmeldung: Carola Bartelheimer (Qigong-Kursleiterin der Dt. Qigong Gesellschaft e.V.)\, 05741-9750 oder C.Bartelheimer@gmx.net
URL:https://kneipp-verein-buende.de/veranstaltungen/qigong/2026-09-15/
CATEGORIES:Wahrnehmung & Achtsamkeit
END:VEVENT
BEGIN:VEVENT
DTSTART;TZID=Europe/Berlin:20260922T100000
DTEND;TZID=Europe/Berlin:20260922T110000
DTSTAMP:20260422T110730
CREATED:20251222T115500Z
LAST-MODIFIED:20251222T115500Z
UID:10001109-1790071200-1790074800@kneipp-verein-buende.de
SUMMARY:Qigong
DESCRIPTION:Die aus der fernöstlichen Kultur stammenden Übungsformen beziehen Körper und Geist gleichermaßen ein: Die langsamen\, fließenden und sanften Bewegungen entspannen\, harmonisieren die Atmung und führen zu innerer Ruhe. Körperliche Verspannungen werden abgebaut und die Beweglichkeit gefördert\, so dass ein positiveres Körpergefühl entsteht. \n\n\n\n\njeweils am Dienstag 10.00 – 11.00 Uhr \n\n\n\n\nKurs B206: 13.01. – 31.03.2026 (12 Termine)\nKurs B207: 14.04. – 30.06.2026 (12 Termine)\nKurs B208: 01.09. – 17.11.2026 (12 Termine) \n\n\n\n\nGebühr: 48\,00 € für Mitglieder\, 60\,00 € für Gäste Ort: Vital-Treff\, Bahnhofstraße 78\, Bünde \nKursleitung & Anmeldung: Carola Bartelheimer (Qigong-Kursleiterin der Dt. Qigong Gesellschaft e.V.)\, 05741-9750 oder C.Bartelheimer@gmx.net
URL:https://kneipp-verein-buende.de/veranstaltungen/qigong/2026-09-22/
CATEGORIES:Wahrnehmung & Achtsamkeit
END:VEVENT
BEGIN:VEVENT
DTSTART;TZID=Europe/Berlin:20260929T100000
DTEND;TZID=Europe/Berlin:20260929T110000
DTSTAMP:20260422T110730
CREATED:20251222T115500Z
LAST-MODIFIED:20251222T115500Z
UID:10001110-1790676000-1790679600@kneipp-verein-buende.de
SUMMARY:Qigong
DESCRIPTION:Die aus der fernöstlichen Kultur stammenden Übungsformen beziehen Körper und Geist gleichermaßen ein: Die langsamen\, fließenden und sanften Bewegungen entspannen\, harmonisieren die Atmung und führen zu innerer Ruhe. Körperliche Verspannungen werden abgebaut und die Beweglichkeit gefördert\, so dass ein positiveres Körpergefühl entsteht. \n\n\n\n\njeweils am Dienstag 10.00 – 11.00 Uhr \n\n\n\n\nKurs B206: 13.01. – 31.03.2026 (12 Termine)\nKurs B207: 14.04. – 30.06.2026 (12 Termine)\nKurs B208: 01.09. – 17.11.2026 (12 Termine) \n\n\n\n\nGebühr: 48\,00 € für Mitglieder\, 60\,00 € für Gäste Ort: Vital-Treff\, Bahnhofstraße 78\, Bünde \nKursleitung & Anmeldung: Carola Bartelheimer (Qigong-Kursleiterin der Dt. Qigong Gesellschaft e.V.)\, 05741-9750 oder C.Bartelheimer@gmx.net
URL:https://kneipp-verein-buende.de/veranstaltungen/qigong/2026-09-29/
CATEGORIES:Wahrnehmung & Achtsamkeit
END:VEVENT
BEGIN:VEVENT
DTSTART;TZID=Europe/Berlin:20261006T100000
DTEND;TZID=Europe/Berlin:20261006T110000
DTSTAMP:20260422T110730
CREATED:20251222T115500Z
LAST-MODIFIED:20251222T115500Z
UID:10001111-1791280800-1791284400@kneipp-verein-buende.de
SUMMARY:Qigong
DESCRIPTION:Die aus der fernöstlichen Kultur stammenden Übungsformen beziehen Körper und Geist gleichermaßen ein: Die langsamen\, fließenden und sanften Bewegungen entspannen\, harmonisieren die Atmung und führen zu innerer Ruhe. Körperliche Verspannungen werden abgebaut und die Beweglichkeit gefördert\, so dass ein positiveres Körpergefühl entsteht. \n\n\n\n\njeweils am Dienstag 10.00 – 11.00 Uhr \n\n\n\n\nKurs B206: 13.01. – 31.03.2026 (12 Termine)\nKurs B207: 14.04. – 30.06.2026 (12 Termine)\nKurs B208: 01.09. – 17.11.2026 (12 Termine) \n\n\n\n\nGebühr: 48\,00 € für Mitglieder\, 60\,00 € für Gäste Ort: Vital-Treff\, Bahnhofstraße 78\, Bünde \nKursleitung & Anmeldung: Carola Bartelheimer (Qigong-Kursleiterin der Dt. Qigong Gesellschaft e.V.)\, 05741-9750 oder C.Bartelheimer@gmx.net
URL:https://kneipp-verein-buende.de/veranstaltungen/qigong/2026-10-06/
CATEGORIES:Wahrnehmung & Achtsamkeit
END:VEVENT
BEGIN:VEVENT
DTSTART;TZID=Europe/Berlin:20261013T100000
DTEND;TZID=Europe/Berlin:20261013T110000
DTSTAMP:20260422T110730
CREATED:20251222T115500Z
LAST-MODIFIED:20251222T115500Z
UID:10001112-1791885600-1791889200@kneipp-verein-buende.de
SUMMARY:Qigong
DESCRIPTION:Die aus der fernöstlichen Kultur stammenden Übungsformen beziehen Körper und Geist gleichermaßen ein: Die langsamen\, fließenden und sanften Bewegungen entspannen\, harmonisieren die Atmung und führen zu innerer Ruhe. Körperliche Verspannungen werden abgebaut und die Beweglichkeit gefördert\, so dass ein positiveres Körpergefühl entsteht. \n\n\n\n\njeweils am Dienstag 10.00 – 11.00 Uhr \n\n\n\n\nKurs B206: 13.01. – 31.03.2026 (12 Termine)\nKurs B207: 14.04. – 30.06.2026 (12 Termine)\nKurs B208: 01.09. – 17.11.2026 (12 Termine) \n\n\n\n\nGebühr: 48\,00 € für Mitglieder\, 60\,00 € für Gäste Ort: Vital-Treff\, Bahnhofstraße 78\, Bünde \nKursleitung & Anmeldung: Carola Bartelheimer (Qigong-Kursleiterin der Dt. Qigong Gesellschaft e.V.)\, 05741-9750 oder C.Bartelheimer@gmx.net
URL:https://kneipp-verein-buende.de/veranstaltungen/qigong/2026-10-13/
CATEGORIES:Wahrnehmung & Achtsamkeit
END:VEVENT
BEGIN:VEVENT
DTSTART;TZID=Europe/Berlin:20261020T100000
DTEND;TZID=Europe/Berlin:20261020T110000
DTSTAMP:20260422T110730
CREATED:20251222T115500Z
LAST-MODIFIED:20251222T115500Z
UID:10001113-1792490400-1792494000@kneipp-verein-buende.de
SUMMARY:Qigong
DESCRIPTION:Die aus der fernöstlichen Kultur stammenden Übungsformen beziehen Körper und Geist gleichermaßen ein: Die langsamen\, fließenden und sanften Bewegungen entspannen\, harmonisieren die Atmung und führen zu innerer Ruhe. Körperliche Verspannungen werden abgebaut und die Beweglichkeit gefördert\, so dass ein positiveres Körpergefühl entsteht. \n\n\n\n\njeweils am Dienstag 10.00 – 11.00 Uhr \n\n\n\n\nKurs B206: 13.01. – 31.03.2026 (12 Termine)\nKurs B207: 14.04. – 30.06.2026 (12 Termine)\nKurs B208: 01.09. – 17.11.2026 (12 Termine) \n\n\n\n\nGebühr: 48\,00 € für Mitglieder\, 60\,00 € für Gäste Ort: Vital-Treff\, Bahnhofstraße 78\, Bünde \nKursleitung & Anmeldung: Carola Bartelheimer (Qigong-Kursleiterin der Dt. Qigong Gesellschaft e.V.)\, 05741-9750 oder C.Bartelheimer@gmx.net
URL:https://kneipp-verein-buende.de/veranstaltungen/qigong/2026-10-20/
CATEGORIES:Wahrnehmung & Achtsamkeit
END:VEVENT
BEGIN:VEVENT
DTSTART;TZID=Europe/Berlin:20261027T100000
DTEND;TZID=Europe/Berlin:20261027T110000
DTSTAMP:20260422T110730
CREATED:20251222T115500Z
LAST-MODIFIED:20251222T115500Z
UID:10001114-1793095200-1793098800@kneipp-verein-buende.de
SUMMARY:Qigong
DESCRIPTION:Die aus der fernöstlichen Kultur stammenden Übungsformen beziehen Körper und Geist gleichermaßen ein: Die langsamen\, fließenden und sanften Bewegungen entspannen\, harmonisieren die Atmung und führen zu innerer Ruhe. Körperliche Verspannungen werden abgebaut und die Beweglichkeit gefördert\, so dass ein positiveres Körpergefühl entsteht. \n\n\n\n\njeweils am Dienstag 10.00 – 11.00 Uhr \n\n\n\n\nKurs B206: 13.01. – 31.03.2026 (12 Termine)\nKurs B207: 14.04. – 30.06.2026 (12 Termine)\nKurs B208: 01.09. – 17.11.2026 (12 Termine) \n\n\n\n\nGebühr: 48\,00 € für Mitglieder\, 60\,00 € für Gäste Ort: Vital-Treff\, Bahnhofstraße 78\, Bünde \nKursleitung & Anmeldung: Carola Bartelheimer (Qigong-Kursleiterin der Dt. Qigong Gesellschaft e.V.)\, 05741-9750 oder C.Bartelheimer@gmx.net
URL:https://kneipp-verein-buende.de/veranstaltungen/qigong/2026-10-27/
CATEGORIES:Wahrnehmung & Achtsamkeit
END:VEVENT
BEGIN:VEVENT
DTSTART;TZID=Europe/Berlin:20261103T100000
DTEND;TZID=Europe/Berlin:20261103T110000
DTSTAMP:20260422T110730
CREATED:20251222T115500Z
LAST-MODIFIED:20251222T115500Z
UID:10001115-1793700000-1793703600@kneipp-verein-buende.de
SUMMARY:Qigong
DESCRIPTION:Die aus der fernöstlichen Kultur stammenden Übungsformen beziehen Körper und Geist gleichermaßen ein: Die langsamen\, fließenden und sanften Bewegungen entspannen\, harmonisieren die Atmung und führen zu innerer Ruhe. Körperliche Verspannungen werden abgebaut und die Beweglichkeit gefördert\, so dass ein positiveres Körpergefühl entsteht. \n\n\n\n\njeweils am Dienstag 10.00 – 11.00 Uhr \n\n\n\n\nKurs B206: 13.01. – 31.03.2026 (12 Termine)\nKurs B207: 14.04. – 30.06.2026 (12 Termine)\nKurs B208: 01.09. – 17.11.2026 (12 Termine) \n\n\n\n\nGebühr: 48\,00 € für Mitglieder\, 60\,00 € für Gäste Ort: Vital-Treff\, Bahnhofstraße 78\, Bünde \nKursleitung & Anmeldung: Carola Bartelheimer (Qigong-Kursleiterin der Dt. Qigong Gesellschaft e.V.)\, 05741-9750 oder C.Bartelheimer@gmx.net
URL:https://kneipp-verein-buende.de/veranstaltungen/qigong/2026-11-03/
CATEGORIES:Wahrnehmung & Achtsamkeit
END:VEVENT
BEGIN:VEVENT
DTSTART;TZID=Europe/Berlin:20261110T100000
DTEND;TZID=Europe/Berlin:20261110T110000
DTSTAMP:20260422T110730
CREATED:20251222T115500Z
LAST-MODIFIED:20251222T115500Z
UID:10001116-1794304800-1794308400@kneipp-verein-buende.de
SUMMARY:Qigong
DESCRIPTION:Die aus der fernöstlichen Kultur stammenden Übungsformen beziehen Körper und Geist gleichermaßen ein: Die langsamen\, fließenden und sanften Bewegungen entspannen\, harmonisieren die Atmung und führen zu innerer Ruhe. Körperliche Verspannungen werden abgebaut und die Beweglichkeit gefördert\, so dass ein positiveres Körpergefühl entsteht. \n\n\n\n\njeweils am Dienstag 10.00 – 11.00 Uhr \n\n\n\n\nKurs B206: 13.01. – 31.03.2026 (12 Termine)\nKurs B207: 14.04. – 30.06.2026 (12 Termine)\nKurs B208: 01.09. – 17.11.2026 (12 Termine) \n\n\n\n\nGebühr: 48\,00 € für Mitglieder\, 60\,00 € für Gäste Ort: Vital-Treff\, Bahnhofstraße 78\, Bünde \nKursleitung & Anmeldung: Carola Bartelheimer (Qigong-Kursleiterin der Dt. Qigong Gesellschaft e.V.)\, 05741-9750 oder C.Bartelheimer@gmx.net
URL:https://kneipp-verein-buende.de/veranstaltungen/qigong/2026-11-10/
CATEGORIES:Wahrnehmung & Achtsamkeit
END:VEVENT
BEGIN:VEVENT
DTSTART;TZID=Europe/Berlin:20261117T100000
DTEND;TZID=Europe/Berlin:20261117T110000
DTSTAMP:20260422T110730
CREATED:20251222T115500Z
LAST-MODIFIED:20251222T115500Z
UID:10001117-1794909600-1794913200@kneipp-verein-buende.de
SUMMARY:Qigong
DESCRIPTION:Die aus der fernöstlichen Kultur stammenden Übungsformen beziehen Körper und Geist gleichermaßen ein: Die langsamen\, fließenden und sanften Bewegungen entspannen\, harmonisieren die Atmung und führen zu innerer Ruhe. Körperliche Verspannungen werden abgebaut und die Beweglichkeit gefördert\, so dass ein positiveres Körpergefühl entsteht. \n\n\n\n\njeweils am Dienstag 10.00 – 11.00 Uhr \n\n\n\n\nKurs B206: 13.01. – 31.03.2026 (12 Termine)\nKurs B207: 14.04. – 30.06.2026 (12 Termine)\nKurs B208: 01.09. – 17.11.2026 (12 Termine) \n\n\n\n\nGebühr: 48\,00 € für Mitglieder\, 60\,00 € für Gäste Ort: Vital-Treff\, Bahnhofstraße 78\, Bünde \nKursleitung & Anmeldung: Carola Bartelheimer (Qigong-Kursleiterin der Dt. Qigong Gesellschaft e.V.)\, 05741-9750 oder C.Bartelheimer@gmx.net
URL:https://kneipp-verein-buende.de/veranstaltungen/qigong/2026-11-17/
CATEGORIES:Wahrnehmung & Achtsamkeit
END:VEVENT
END:VCALENDAR